BEGIN:VCALENDAR
VERSION:2.0
PRODID:-//The Crossvines - Poolesville, MD - ECPv6.15.20//NONSGML v1.0//EN
CALSCALE:GREGORIAN
METHOD:PUBLISH
X-WR-CALNAME:The Crossvines - Poolesville, MD
X-ORIGINAL-URL:https://crossvines.com
X-WR-CALDESC:Events for The Crossvines - Poolesville, MD
REFRESH-INTERVAL;VALUE=DURATION:PT1H
X-Robots-Tag:noindex
X-PUBLISHED-TTL:PT1H
BEGIN:VTIMEZONE
TZID:UTC
BEGIN:STANDARD
TZOFFSETFROM:+0000
TZOFFSETTO:+0000
TZNAME:UTC
DTSTART:20250101T000000
END:STANDARD
END:VTIMEZONE
BEGIN:VEVENT
DTSTART;TZID=UTC:20260501T150000
DTEND;TZID=UTC:20260501T180000
DTSTAMP:20260421T145702
CREATED:20260416T184026Z
LAST-MODIFIED:20260416T184232Z
UID:10000496-1777647600-1777658400@crossvines.com
SUMMARY:Happy Hour!
DESCRIPTION:Join us in the Bistro Bar for Happy Hour and enjoy $2 off appetizers\, draft beer\, select Crossvines wine\, and house cocktails.
URL:https://crossvines.com/event/happy-hour-3/2026-05-01/
CATEGORIES:Events
END:VEVENT
BEGIN:VEVENT
DTSTART;TZID=UTC:20260501T170000
DTEND;TZID=UTC:20260501T200000
DTSTAMP:20260421T145702
CREATED:20260416T155250Z
LAST-MODIFIED:20260416T183421Z
UID:10000375-1777654800-1777665600@crossvines.com
SUMMARY:Live Music On The Patio
DESCRIPTION:Live Music: Billy James Herrington | https://billyjamesherrington.com/ Patio season is officially here! Join us for our first live performance of the year. Enjoy local music\, seasonal cocktails\, and the best views in Poolesville.
URL:https://crossvines.com/event/live-music-on-the-patio/
END:VEVENT
END:VCALENDAR