BEGIN:VCALENDAR
VERSION:2.0
PRODID:-//The Crossvines - Poolesville, MD - ECPv6.15.20//NONSGML v1.0//EN
CALSCALE:GREGORIAN
METHOD:PUBLISH
X-ORIGINAL-URL:https://crossvines.com
X-WR-CALDESC:Events for The Crossvines - Poolesville, MD
REFRESH-INTERVAL;VALUE=DURATION:PT1H
X-Robots-Tag:noindex
X-PUBLISHED-TTL:PT1H
BEGIN:VTIMEZONE
TZID:UTC
BEGIN:STANDARD
TZOFFSETFROM:+0000
TZOFFSETTO:+0000
TZNAME:UTC
DTSTART:20250101T000000
END:STANDARD
END:VTIMEZONE
BEGIN:VEVENT
DTSTART;TZID=UTC:20260724T150000
DTEND;TZID=UTC:20260724T180000
DTSTAMP:20260419T125920
CREATED:20260416T184026Z
LAST-MODIFIED:20260416T184232Z
UID:10000532-1784905200-1784916000@crossvines.com
SUMMARY:Happy Hour!
DESCRIPTION:Join us in the Bistro Bar for Happy Hour and enjoy $2 off appetizers\, draft beer\, select Crossvines wine\, and house cocktails.
URL:https://crossvines.com/event/happy-hour-3/2026-07-24/
CATEGORIES:Events
END:VEVENT
BEGIN:VEVENT
DTSTART;TZID=UTC:20260729T150000
DTEND;TZID=UTC:20260729T180000
DTSTAMP:20260419T125920
CREATED:20260416T184026Z
LAST-MODIFIED:20260416T184232Z
UID:10000533-1785337200-1785348000@crossvines.com
SUMMARY:Happy Hour!
DESCRIPTION:Join us in the Bistro Bar for Happy Hour and enjoy $2 off appetizers\, draft beer\, select Crossvines wine\, and house cocktails.
URL:https://crossvines.com/event/happy-hour-3/2026-07-29/
CATEGORIES:Events
END:VEVENT
BEGIN:VEVENT
DTSTART;TZID=UTC:20260730T150000
DTEND;TZID=UTC:20260730T180000
DTSTAMP:20260419T125920
CREATED:20260416T184026Z
LAST-MODIFIED:20260416T184232Z
UID:10000534-1785423600-1785434400@crossvines.com
SUMMARY:Happy Hour!
DESCRIPTION:Join us in the Bistro Bar for Happy Hour and enjoy $2 off appetizers\, draft beer\, select Crossvines wine\, and house cocktails.
URL:https://crossvines.com/event/happy-hour-3/2026-07-30/
CATEGORIES:Events
END:VEVENT
BEGIN:VEVENT
DTSTART;TZID=UTC:20260731T150000
DTEND;TZID=UTC:20260731T180000
DTSTAMP:20260419T125920
CREATED:20260416T184026Z
LAST-MODIFIED:20260416T184232Z
UID:10000535-1785510000-1785520800@crossvines.com
SUMMARY:Happy Hour!
DESCRIPTION:Join us in the Bistro Bar for Happy Hour and enjoy $2 off appetizers\, draft beer\, select Crossvines wine\, and house cocktails.
URL:https://crossvines.com/event/happy-hour-3/2026-07-31/
CATEGORIES:Events
END:VEVENT
BEGIN:VEVENT
DTSTART;TZID=UTC:20260805T150000
DTEND;TZID=UTC:20260805T180000
DTSTAMP:20260419T125920
CREATED:20260416T184026Z
LAST-MODIFIED:20260416T184232Z
UID:10000536-1785942000-1785952800@crossvines.com
SUMMARY:Happy Hour!
DESCRIPTION:Join us in the Bistro Bar for Happy Hour and enjoy $2 off appetizers\, draft beer\, select Crossvines wine\, and house cocktails.
URL:https://crossvines.com/event/happy-hour-3/2026-08-05/
CATEGORIES:Events
END:VEVENT
BEGIN:VEVENT
DTSTART;TZID=UTC:20260806T150000
DTEND;TZID=UTC:20260806T180000
DTSTAMP:20260419T125920
CREATED:20260416T184026Z
LAST-MODIFIED:20260416T184232Z
UID:10000537-1786028400-1786039200@crossvines.com
SUMMARY:Happy Hour!
DESCRIPTION:Join us in the Bistro Bar for Happy Hour and enjoy $2 off appetizers\, draft beer\, select Crossvines wine\, and house cocktails.
URL:https://crossvines.com/event/happy-hour-3/2026-08-06/
CATEGORIES:Events
END:VEVENT
BEGIN:VEVENT
DTSTART;TZID=UTC:20260807T150000
DTEND;TZID=UTC:20260807T180000
DTSTAMP:20260419T125920
CREATED:20260416T184026Z
LAST-MODIFIED:20260416T184232Z
UID:10000538-1786114800-1786125600@crossvines.com
SUMMARY:Happy Hour!
DESCRIPTION:Join us in the Bistro Bar for Happy Hour and enjoy $2 off appetizers\, draft beer\, select Crossvines wine\, and house cocktails.
URL:https://crossvines.com/event/happy-hour-3/2026-08-07/
CATEGORIES:Events
END:VEVENT
BEGIN:VEVENT
DTSTART;TZID=UTC:20260812T150000
DTEND;TZID=UTC:20260812T180000
DTSTAMP:20260419T125920
CREATED:20260416T184026Z
LAST-MODIFIED:20260416T184232Z
UID:10000539-1786546800-1786557600@crossvines.com
SUMMARY:Happy Hour!
DESCRIPTION:Join us in the Bistro Bar for Happy Hour and enjoy $2 off appetizers\, draft beer\, select Crossvines wine\, and house cocktails.
URL:https://crossvines.com/event/happy-hour-3/2026-08-12/
CATEGORIES:Events
END:VEVENT
BEGIN:VEVENT
DTSTART;TZID=UTC:20260813T150000
DTEND;TZID=UTC:20260813T180000
DTSTAMP:20260419T125920
CREATED:20260416T184026Z
LAST-MODIFIED:20260416T184232Z
UID:10000540-1786633200-1786644000@crossvines.com
SUMMARY:Happy Hour!
DESCRIPTION:Join us in the Bistro Bar for Happy Hour and enjoy $2 off appetizers\, draft beer\, select Crossvines wine\, and house cocktails.
URL:https://crossvines.com/event/happy-hour-3/2026-08-13/
CATEGORIES:Events
END:VEVENT
BEGIN:VEVENT
DTSTART;TZID=UTC:20260814T150000
DTEND;TZID=UTC:20260814T180000
DTSTAMP:20260419T125920
CREATED:20260416T184026Z
LAST-MODIFIED:20260416T184232Z
UID:10000541-1786719600-1786730400@crossvines.com
SUMMARY:Happy Hour!
DESCRIPTION:Join us in the Bistro Bar for Happy Hour and enjoy $2 off appetizers\, draft beer\, select Crossvines wine\, and house cocktails.
URL:https://crossvines.com/event/happy-hour-3/2026-08-14/
CATEGORIES:Events
END:VEVENT
BEGIN:VEVENT
DTSTART;TZID=UTC:20260819T150000
DTEND;TZID=UTC:20260819T180000
DTSTAMP:20260419T125920
CREATED:20260416T184026Z
LAST-MODIFIED:20260416T184232Z
UID:10000542-1787151600-1787162400@crossvines.com
SUMMARY:Happy Hour!
DESCRIPTION:Join us in the Bistro Bar for Happy Hour and enjoy $2 off appetizers\, draft beer\, select Crossvines wine\, and house cocktails.
URL:https://crossvines.com/event/happy-hour-3/2026-08-19/
CATEGORIES:Events
END:VEVENT
BEGIN:VEVENT
DTSTART;TZID=UTC:20260820T150000
DTEND;TZID=UTC:20260820T180000
DTSTAMP:20260419T125920
CREATED:20260416T184026Z
LAST-MODIFIED:20260416T184232Z
UID:10000543-1787238000-1787248800@crossvines.com
SUMMARY:Happy Hour!
DESCRIPTION:Join us in the Bistro Bar for Happy Hour and enjoy $2 off appetizers\, draft beer\, select Crossvines wine\, and house cocktails.
URL:https://crossvines.com/event/happy-hour-3/2026-08-20/
CATEGORIES:Events
END:VEVENT
BEGIN:VEVENT
DTSTART;TZID=UTC:20260821T150000
DTEND;TZID=UTC:20260821T180000
DTSTAMP:20260419T125920
CREATED:20260416T184026Z
LAST-MODIFIED:20260416T184232Z
UID:10000544-1787324400-1787335200@crossvines.com
SUMMARY:Happy Hour!
DESCRIPTION:Join us in the Bistro Bar for Happy Hour and enjoy $2 off appetizers\, draft beer\, select Crossvines wine\, and house cocktails.
URL:https://crossvines.com/event/happy-hour-3/2026-08-21/
CATEGORIES:Events
END:VEVENT
BEGIN:VEVENT
DTSTART;TZID=UTC:20260826T150000
DTEND;TZID=UTC:20260826T180000
DTSTAMP:20260419T125921
CREATED:20260416T184026Z
LAST-MODIFIED:20260416T184232Z
UID:10000545-1787756400-1787767200@crossvines.com
SUMMARY:Happy Hour!
DESCRIPTION:Join us in the Bistro Bar for Happy Hour and enjoy $2 off appetizers\, draft beer\, select Crossvines wine\, and house cocktails.
URL:https://crossvines.com/event/happy-hour-3/2026-08-26/
CATEGORIES:Events
END:VEVENT
BEGIN:VEVENT
DTSTART;TZID=UTC:20260827T150000
DTEND;TZID=UTC:20260827T180000
DTSTAMP:20260419T125921
CREATED:20260416T184026Z
LAST-MODIFIED:20260416T184232Z
UID:10000546-1787842800-1787853600@crossvines.com
SUMMARY:Happy Hour!
DESCRIPTION:Join us in the Bistro Bar for Happy Hour and enjoy $2 off appetizers\, draft beer\, select Crossvines wine\, and house cocktails.
URL:https://crossvines.com/event/happy-hour-3/2026-08-27/
CATEGORIES:Events
END:VEVENT
BEGIN:VEVENT
DTSTART;TZID=UTC:20260828T150000
DTEND;TZID=UTC:20260828T180000
DTSTAMP:20260419T125921
CREATED:20260416T184026Z
LAST-MODIFIED:20260416T184232Z
UID:10000547-1787929200-1787940000@crossvines.com
SUMMARY:Happy Hour!
DESCRIPTION:Join us in the Bistro Bar for Happy Hour and enjoy $2 off appetizers\, draft beer\, select Crossvines wine\, and house cocktails.
URL:https://crossvines.com/event/happy-hour-3/2026-08-28/
CATEGORIES:Events
END:VEVENT
BEGIN:VEVENT
DTSTART;TZID=UTC:20260902T150000
DTEND;TZID=UTC:20260902T180000
DTSTAMP:20260419T125921
CREATED:20260416T184026Z
LAST-MODIFIED:20260416T184232Z
UID:10000548-1788361200-1788372000@crossvines.com
SUMMARY:Happy Hour!
DESCRIPTION:Join us in the Bistro Bar for Happy Hour and enjoy $2 off appetizers\, draft beer\, select Crossvines wine\, and house cocktails.
URL:https://crossvines.com/event/happy-hour-3/2026-09-02/
CATEGORIES:Events
END:VEVENT
BEGIN:VEVENT
DTSTART;TZID=UTC:20260903T150000
DTEND;TZID=UTC:20260903T180000
DTSTAMP:20260419T125921
CREATED:20260416T184026Z
LAST-MODIFIED:20260416T184232Z
UID:10000549-1788447600-1788458400@crossvines.com
SUMMARY:Happy Hour!
DESCRIPTION:Join us in the Bistro Bar for Happy Hour and enjoy $2 off appetizers\, draft beer\, select Crossvines wine\, and house cocktails.
URL:https://crossvines.com/event/happy-hour-3/2026-09-03/
CATEGORIES:Events
END:VEVENT
BEGIN:VEVENT
DTSTART;TZID=UTC:20260904T150000
DTEND;TZID=UTC:20260904T180000
DTSTAMP:20260419T125921
CREATED:20260416T184026Z
LAST-MODIFIED:20260416T184232Z
UID:10000550-1788534000-1788544800@crossvines.com
SUMMARY:Happy Hour!
DESCRIPTION:Join us in the Bistro Bar for Happy Hour and enjoy $2 off appetizers\, draft beer\, select Crossvines wine\, and house cocktails.
URL:https://crossvines.com/event/happy-hour-3/2026-09-04/
CATEGORIES:Events
END:VEVENT
BEGIN:VEVENT
DTSTART;TZID=UTC:20260909T150000
DTEND;TZID=UTC:20260909T180000
DTSTAMP:20260419T125921
CREATED:20260416T184026Z
LAST-MODIFIED:20260416T184232Z
UID:10000551-1788966000-1788976800@crossvines.com
SUMMARY:Happy Hour!
DESCRIPTION:Join us in the Bistro Bar for Happy Hour and enjoy $2 off appetizers\, draft beer\, select Crossvines wine\, and house cocktails.
URL:https://crossvines.com/event/happy-hour-3/2026-09-09/
CATEGORIES:Events
END:VEVENT
BEGIN:VEVENT
DTSTART;TZID=UTC:20260910T150000
DTEND;TZID=UTC:20260910T180000
DTSTAMP:20260419T125921
CREATED:20260416T184026Z
LAST-MODIFIED:20260416T184232Z
UID:10000552-1789052400-1789063200@crossvines.com
SUMMARY:Happy Hour!
DESCRIPTION:Join us in the Bistro Bar for Happy Hour and enjoy $2 off appetizers\, draft beer\, select Crossvines wine\, and house cocktails.
URL:https://crossvines.com/event/happy-hour-3/2026-09-10/
CATEGORIES:Events
END:VEVENT
BEGIN:VEVENT
DTSTART;TZID=UTC:20260911T150000
DTEND;TZID=UTC:20260911T180000
DTSTAMP:20260419T125921
CREATED:20260416T184026Z
LAST-MODIFIED:20260416T184232Z
UID:10000553-1789138800-1789149600@crossvines.com
SUMMARY:Happy Hour!
DESCRIPTION:Join us in the Bistro Bar for Happy Hour and enjoy $2 off appetizers\, draft beer\, select Crossvines wine\, and house cocktails.
URL:https://crossvines.com/event/happy-hour-3/2026-09-11/
CATEGORIES:Events
END:VEVENT
BEGIN:VEVENT
DTSTART;TZID=UTC:20260916T150000
DTEND;TZID=UTC:20260916T180000
DTSTAMP:20260419T125921
CREATED:20260416T184026Z
LAST-MODIFIED:20260416T184232Z
UID:10000554-1789570800-1789581600@crossvines.com
SUMMARY:Happy Hour!
DESCRIPTION:Join us in the Bistro Bar for Happy Hour and enjoy $2 off appetizers\, draft beer\, select Crossvines wine\, and house cocktails.
URL:https://crossvines.com/event/happy-hour-3/2026-09-16/
CATEGORIES:Events
END:VEVENT
BEGIN:VEVENT
DTSTART;TZID=UTC:20260917T150000
DTEND;TZID=UTC:20260917T180000
DTSTAMP:20260419T125921
CREATED:20260416T184026Z
LAST-MODIFIED:20260416T184232Z
UID:10000555-1789657200-1789668000@crossvines.com
SUMMARY:Happy Hour!
DESCRIPTION:Join us in the Bistro Bar for Happy Hour and enjoy $2 off appetizers\, draft beer\, select Crossvines wine\, and house cocktails.
URL:https://crossvines.com/event/happy-hour-3/2026-09-17/
CATEGORIES:Events
END:VEVENT
BEGIN:VEVENT
DTSTART;TZID=UTC:20260918T150000
DTEND;TZID=UTC:20260918T180000
DTSTAMP:20260419T125921
CREATED:20260416T184026Z
LAST-MODIFIED:20260416T184232Z
UID:10000556-1789743600-1789754400@crossvines.com
SUMMARY:Happy Hour!
DESCRIPTION:Join us in the Bistro Bar for Happy Hour and enjoy $2 off appetizers\, draft beer\, select Crossvines wine\, and house cocktails.
URL:https://crossvines.com/event/happy-hour-3/2026-09-18/
CATEGORIES:Events
END:VEVENT
BEGIN:VEVENT
DTSTART;TZID=UTC:20260923T150000
DTEND;TZID=UTC:20260923T180000
DTSTAMP:20260419T125921
CREATED:20260416T184026Z
LAST-MODIFIED:20260416T184232Z
UID:10000557-1790175600-1790186400@crossvines.com
SUMMARY:Happy Hour!
DESCRIPTION:Join us in the Bistro Bar for Happy Hour and enjoy $2 off appetizers\, draft beer\, select Crossvines wine\, and house cocktails.
URL:https://crossvines.com/event/happy-hour-3/2026-09-23/
CATEGORIES:Events
END:VEVENT
BEGIN:VEVENT
DTSTART;TZID=UTC:20260924T150000
DTEND;TZID=UTC:20260924T180000
DTSTAMP:20260419T125921
CREATED:20260416T184026Z
LAST-MODIFIED:20260416T184232Z
UID:10000558-1790262000-1790272800@crossvines.com
SUMMARY:Happy Hour!
DESCRIPTION:Join us in the Bistro Bar for Happy Hour and enjoy $2 off appetizers\, draft beer\, select Crossvines wine\, and house cocktails.
URL:https://crossvines.com/event/happy-hour-3/2026-09-24/
CATEGORIES:Events
END:VEVENT
BEGIN:VEVENT
DTSTART;TZID=UTC:20260925T150000
DTEND;TZID=UTC:20260925T180000
DTSTAMP:20260419T125921
CREATED:20260416T184026Z
LAST-MODIFIED:20260416T184232Z
UID:10000559-1790348400-1790359200@crossvines.com
SUMMARY:Happy Hour!
DESCRIPTION:Join us in the Bistro Bar for Happy Hour and enjoy $2 off appetizers\, draft beer\, select Crossvines wine\, and house cocktails.
URL:https://crossvines.com/event/happy-hour-3/2026-09-25/
CATEGORIES:Events
END:VEVENT
BEGIN:VEVENT
DTSTART;TZID=UTC:20260930T150000
DTEND;TZID=UTC:20260930T180000
DTSTAMP:20260419T125921
CREATED:20260416T184026Z
LAST-MODIFIED:20260416T184232Z
UID:10000560-1790780400-1790791200@crossvines.com
SUMMARY:Happy Hour!
DESCRIPTION:Join us in the Bistro Bar for Happy Hour and enjoy $2 off appetizers\, draft beer\, select Crossvines wine\, and house cocktails.
URL:https://crossvines.com/event/happy-hour-3/2026-09-30/
CATEGORIES:Events
END:VEVENT
BEGIN:VEVENT
DTSTART;TZID=UTC:20261001T150000
DTEND;TZID=UTC:20261001T180000
DTSTAMP:20260419T125921
CREATED:20260416T184026Z
LAST-MODIFIED:20260416T184232Z
UID:10000561-1790866800-1790877600@crossvines.com
SUMMARY:Happy Hour!
DESCRIPTION:Join us in the Bistro Bar for Happy Hour and enjoy $2 off appetizers\, draft beer\, select Crossvines wine\, and house cocktails.
URL:https://crossvines.com/event/happy-hour-3/2026-10-01/
CATEGORIES:Events
END:VEVENT
END:VCALENDAR