BEGIN:VCALENDAR
VERSION:2.0
PRODID:-//The Crossvines - Poolesville, MD - ECPv6.15.20//NONSGML v1.0//EN
CALSCALE:GREGORIAN
METHOD:PUBLISH
X-ORIGINAL-URL:https://crossvines.com
X-WR-CALDESC:Events for The Crossvines - Poolesville, MD
REFRESH-INTERVAL;VALUE=DURATION:PT1H
X-Robots-Tag:noindex
X-PUBLISHED-TTL:PT1H
BEGIN:VTIMEZONE
TZID:UTC
BEGIN:STANDARD
TZOFFSETFROM:+0000
TZOFFSETTO:+0000
TZNAME:UTC
DTSTART:20260101T000000
END:STANDARD
END:VTIMEZONE
BEGIN:VEVENT
DTSTART;TZID=UTC:20270526T150000
DTEND;TZID=UTC:20270526T180000
DTSTAMP:20260420T104012
CREATED:20260416T184026Z
LAST-MODIFIED:20260416T184232Z
UID:10000662-1811343600-1811354400@crossvines.com
SUMMARY:Happy Hour!
DESCRIPTION:Join us in the Bistro Bar for Happy Hour and enjoy $2 off appetizers\, draft beer\, select Crossvines wine\, and house cocktails.
URL:https://crossvines.com/event/happy-hour-3/2027-05-26/
CATEGORIES:Events
END:VEVENT
BEGIN:VEVENT
DTSTART;TZID=UTC:20270527T150000
DTEND;TZID=UTC:20270527T180000
DTSTAMP:20260420T104012
CREATED:20260416T184026Z
LAST-MODIFIED:20260416T184232Z
UID:10000663-1811430000-1811440800@crossvines.com
SUMMARY:Happy Hour!
DESCRIPTION:Join us in the Bistro Bar for Happy Hour and enjoy $2 off appetizers\, draft beer\, select Crossvines wine\, and house cocktails.
URL:https://crossvines.com/event/happy-hour-3/2027-05-27/
CATEGORIES:Events
END:VEVENT
BEGIN:VEVENT
DTSTART;TZID=UTC:20270528T150000
DTEND;TZID=UTC:20270528T180000
DTSTAMP:20260420T104012
CREATED:20260416T184026Z
LAST-MODIFIED:20260416T184232Z
UID:10000664-1811516400-1811527200@crossvines.com
SUMMARY:Happy Hour!
DESCRIPTION:Join us in the Bistro Bar for Happy Hour and enjoy $2 off appetizers\, draft beer\, select Crossvines wine\, and house cocktails.
URL:https://crossvines.com/event/happy-hour-3/2027-05-28/
CATEGORIES:Events
END:VEVENT
BEGIN:VEVENT
DTSTART;TZID=UTC:20270602T150000
DTEND;TZID=UTC:20270602T180000
DTSTAMP:20260420T104012
CREATED:20260416T184026Z
LAST-MODIFIED:20260416T184232Z
UID:10000665-1811948400-1811959200@crossvines.com
SUMMARY:Happy Hour!
DESCRIPTION:Join us in the Bistro Bar for Happy Hour and enjoy $2 off appetizers\, draft beer\, select Crossvines wine\, and house cocktails.
URL:https://crossvines.com/event/happy-hour-3/2027-06-02/
CATEGORIES:Events
END:VEVENT
BEGIN:VEVENT
DTSTART;TZID=UTC:20270603T150000
DTEND;TZID=UTC:20270603T180000
DTSTAMP:20260420T104012
CREATED:20260416T184026Z
LAST-MODIFIED:20260416T184232Z
UID:10000666-1812034800-1812045600@crossvines.com
SUMMARY:Happy Hour!
DESCRIPTION:Join us in the Bistro Bar for Happy Hour and enjoy $2 off appetizers\, draft beer\, select Crossvines wine\, and house cocktails.
URL:https://crossvines.com/event/happy-hour-3/2027-06-03/
CATEGORIES:Events
END:VEVENT
BEGIN:VEVENT
DTSTART;TZID=UTC:20270604T150000
DTEND;TZID=UTC:20270604T180000
DTSTAMP:20260420T104012
CREATED:20260416T184026Z
LAST-MODIFIED:20260416T184232Z
UID:10000667-1812121200-1812132000@crossvines.com
SUMMARY:Happy Hour!
DESCRIPTION:Join us in the Bistro Bar for Happy Hour and enjoy $2 off appetizers\, draft beer\, select Crossvines wine\, and house cocktails.
URL:https://crossvines.com/event/happy-hour-3/2027-06-04/
CATEGORIES:Events
END:VEVENT
BEGIN:VEVENT
DTSTART;TZID=UTC:20270609T150000
DTEND;TZID=UTC:20270609T180000
DTSTAMP:20260420T104012
CREATED:20260416T184026Z
LAST-MODIFIED:20260416T184232Z
UID:10000668-1812553200-1812564000@crossvines.com
SUMMARY:Happy Hour!
DESCRIPTION:Join us in the Bistro Bar for Happy Hour and enjoy $2 off appetizers\, draft beer\, select Crossvines wine\, and house cocktails.
URL:https://crossvines.com/event/happy-hour-3/2027-06-09/
CATEGORIES:Events
END:VEVENT
BEGIN:VEVENT
DTSTART;TZID=UTC:20270610T150000
DTEND;TZID=UTC:20270610T180000
DTSTAMP:20260420T104012
CREATED:20260416T184026Z
LAST-MODIFIED:20260416T184232Z
UID:10000669-1812639600-1812650400@crossvines.com
SUMMARY:Happy Hour!
DESCRIPTION:Join us in the Bistro Bar for Happy Hour and enjoy $2 off appetizers\, draft beer\, select Crossvines wine\, and house cocktails.
URL:https://crossvines.com/event/happy-hour-3/2027-06-10/
CATEGORIES:Events
END:VEVENT
BEGIN:VEVENT
DTSTART;TZID=UTC:20270611T150000
DTEND;TZID=UTC:20270611T180000
DTSTAMP:20260420T104012
CREATED:20260416T184026Z
LAST-MODIFIED:20260416T184232Z
UID:10000670-1812726000-1812736800@crossvines.com
SUMMARY:Happy Hour!
DESCRIPTION:Join us in the Bistro Bar for Happy Hour and enjoy $2 off appetizers\, draft beer\, select Crossvines wine\, and house cocktails.
URL:https://crossvines.com/event/happy-hour-3/2027-06-11/
CATEGORIES:Events
END:VEVENT
BEGIN:VEVENT
DTSTART;TZID=UTC:20270616T150000
DTEND;TZID=UTC:20270616T180000
DTSTAMP:20260420T104012
CREATED:20260416T184026Z
LAST-MODIFIED:20260416T184232Z
UID:10000671-1813158000-1813168800@crossvines.com
SUMMARY:Happy Hour!
DESCRIPTION:Join us in the Bistro Bar for Happy Hour and enjoy $2 off appetizers\, draft beer\, select Crossvines wine\, and house cocktails.
URL:https://crossvines.com/event/happy-hour-3/2027-06-16/
CATEGORIES:Events
END:VEVENT
BEGIN:VEVENT
DTSTART;TZID=UTC:20270617T150000
DTEND;TZID=UTC:20270617T180000
DTSTAMP:20260420T104012
CREATED:20260416T184026Z
LAST-MODIFIED:20260416T184232Z
UID:10000672-1813244400-1813255200@crossvines.com
SUMMARY:Happy Hour!
DESCRIPTION:Join us in the Bistro Bar for Happy Hour and enjoy $2 off appetizers\, draft beer\, select Crossvines wine\, and house cocktails.
URL:https://crossvines.com/event/happy-hour-3/2027-06-17/
CATEGORIES:Events
END:VEVENT
BEGIN:VEVENT
DTSTART;TZID=UTC:20270618T150000
DTEND;TZID=UTC:20270618T180000
DTSTAMP:20260420T104012
CREATED:20260416T184026Z
LAST-MODIFIED:20260416T184232Z
UID:10000673-1813330800-1813341600@crossvines.com
SUMMARY:Happy Hour!
DESCRIPTION:Join us in the Bistro Bar for Happy Hour and enjoy $2 off appetizers\, draft beer\, select Crossvines wine\, and house cocktails.
URL:https://crossvines.com/event/happy-hour-3/2027-06-18/
CATEGORIES:Events
END:VEVENT
BEGIN:VEVENT
DTSTART;TZID=UTC:20270623T150000
DTEND;TZID=UTC:20270623T180000
DTSTAMP:20260420T104012
CREATED:20260416T184026Z
LAST-MODIFIED:20260416T184232Z
UID:10000674-1813762800-1813773600@crossvines.com
SUMMARY:Happy Hour!
DESCRIPTION:Join us in the Bistro Bar for Happy Hour and enjoy $2 off appetizers\, draft beer\, select Crossvines wine\, and house cocktails.
URL:https://crossvines.com/event/happy-hour-3/2027-06-23/
CATEGORIES:Events
END:VEVENT
BEGIN:VEVENT
DTSTART;TZID=UTC:20270624T150000
DTEND;TZID=UTC:20270624T180000
DTSTAMP:20260420T104012
CREATED:20260416T184026Z
LAST-MODIFIED:20260416T184232Z
UID:10000675-1813849200-1813860000@crossvines.com
SUMMARY:Happy Hour!
DESCRIPTION:Join us in the Bistro Bar for Happy Hour and enjoy $2 off appetizers\, draft beer\, select Crossvines wine\, and house cocktails.
URL:https://crossvines.com/event/happy-hour-3/2027-06-24/
CATEGORIES:Events
END:VEVENT
BEGIN:VEVENT
DTSTART;TZID=UTC:20270625T150000
DTEND;TZID=UTC:20270625T180000
DTSTAMP:20260420T104012
CREATED:20260416T184026Z
LAST-MODIFIED:20260416T184232Z
UID:10000676-1813935600-1813946400@crossvines.com
SUMMARY:Happy Hour!
DESCRIPTION:Join us in the Bistro Bar for Happy Hour and enjoy $2 off appetizers\, draft beer\, select Crossvines wine\, and house cocktails.
URL:https://crossvines.com/event/happy-hour-3/2027-06-25/
CATEGORIES:Events
END:VEVENT
BEGIN:VEVENT
DTSTART;TZID=UTC:20270630T150000
DTEND;TZID=UTC:20270630T180000
DTSTAMP:20260420T104012
CREATED:20260416T184026Z
LAST-MODIFIED:20260416T184232Z
UID:10000677-1814367600-1814378400@crossvines.com
SUMMARY:Happy Hour!
DESCRIPTION:Join us in the Bistro Bar for Happy Hour and enjoy $2 off appetizers\, draft beer\, select Crossvines wine\, and house cocktails.
URL:https://crossvines.com/event/happy-hour-3/2027-06-30/
CATEGORIES:Events
END:VEVENT
BEGIN:VEVENT
DTSTART;TZID=UTC:20270701T150000
DTEND;TZID=UTC:20270701T180000
DTSTAMP:20260420T104012
CREATED:20260416T184026Z
LAST-MODIFIED:20260416T184232Z
UID:10000678-1814454000-1814464800@crossvines.com
SUMMARY:Happy Hour!
DESCRIPTION:Join us in the Bistro Bar for Happy Hour and enjoy $2 off appetizers\, draft beer\, select Crossvines wine\, and house cocktails.
URL:https://crossvines.com/event/happy-hour-3/2027-07-01/
CATEGORIES:Events
END:VEVENT
BEGIN:VEVENT
DTSTART;TZID=UTC:20270702T150000
DTEND;TZID=UTC:20270702T180000
DTSTAMP:20260420T104012
CREATED:20260416T184026Z
LAST-MODIFIED:20260416T184232Z
UID:10000679-1814540400-1814551200@crossvines.com
SUMMARY:Happy Hour!
DESCRIPTION:Join us in the Bistro Bar for Happy Hour and enjoy $2 off appetizers\, draft beer\, select Crossvines wine\, and house cocktails.
URL:https://crossvines.com/event/happy-hour-3/2027-07-02/
CATEGORIES:Events
END:VEVENT
BEGIN:VEVENT
DTSTART;TZID=UTC:20270707T150000
DTEND;TZID=UTC:20270707T180000
DTSTAMP:20260420T104012
CREATED:20260416T184026Z
LAST-MODIFIED:20260416T184232Z
UID:10000680-1814972400-1814983200@crossvines.com
SUMMARY:Happy Hour!
DESCRIPTION:Join us in the Bistro Bar for Happy Hour and enjoy $2 off appetizers\, draft beer\, select Crossvines wine\, and house cocktails.
URL:https://crossvines.com/event/happy-hour-3/2027-07-07/
CATEGORIES:Events
END:VEVENT
BEGIN:VEVENT
DTSTART;TZID=UTC:20270708T150000
DTEND;TZID=UTC:20270708T180000
DTSTAMP:20260420T104012
CREATED:20260416T184026Z
LAST-MODIFIED:20260416T184232Z
UID:10000681-1815058800-1815069600@crossvines.com
SUMMARY:Happy Hour!
DESCRIPTION:Join us in the Bistro Bar for Happy Hour and enjoy $2 off appetizers\, draft beer\, select Crossvines wine\, and house cocktails.
URL:https://crossvines.com/event/happy-hour-3/2027-07-08/
CATEGORIES:Events
END:VEVENT
BEGIN:VEVENT
DTSTART;TZID=UTC:20270709T150000
DTEND;TZID=UTC:20270709T180000
DTSTAMP:20260420T104012
CREATED:20260416T184026Z
LAST-MODIFIED:20260416T184232Z
UID:10000682-1815145200-1815156000@crossvines.com
SUMMARY:Happy Hour!
DESCRIPTION:Join us in the Bistro Bar for Happy Hour and enjoy $2 off appetizers\, draft beer\, select Crossvines wine\, and house cocktails.
URL:https://crossvines.com/event/happy-hour-3/2027-07-09/
CATEGORIES:Events
END:VEVENT
BEGIN:VEVENT
DTSTART;TZID=UTC:20270714T150000
DTEND;TZID=UTC:20270714T180000
DTSTAMP:20260420T104012
CREATED:20260416T184026Z
LAST-MODIFIED:20260416T184232Z
UID:10000683-1815577200-1815588000@crossvines.com
SUMMARY:Happy Hour!
DESCRIPTION:Join us in the Bistro Bar for Happy Hour and enjoy $2 off appetizers\, draft beer\, select Crossvines wine\, and house cocktails.
URL:https://crossvines.com/event/happy-hour-3/2027-07-14/
CATEGORIES:Events
END:VEVENT
BEGIN:VEVENT
DTSTART;TZID=UTC:20270715T150000
DTEND;TZID=UTC:20270715T180000
DTSTAMP:20260420T104012
CREATED:20260416T184026Z
LAST-MODIFIED:20260416T184232Z
UID:10000684-1815663600-1815674400@crossvines.com
SUMMARY:Happy Hour!
DESCRIPTION:Join us in the Bistro Bar for Happy Hour and enjoy $2 off appetizers\, draft beer\, select Crossvines wine\, and house cocktails.
URL:https://crossvines.com/event/happy-hour-3/2027-07-15/
CATEGORIES:Events
END:VEVENT
BEGIN:VEVENT
DTSTART;TZID=UTC:20270716T150000
DTEND;TZID=UTC:20270716T180000
DTSTAMP:20260420T104012
CREATED:20260416T184026Z
LAST-MODIFIED:20260416T184232Z
UID:10000685-1815750000-1815760800@crossvines.com
SUMMARY:Happy Hour!
DESCRIPTION:Join us in the Bistro Bar for Happy Hour and enjoy $2 off appetizers\, draft beer\, select Crossvines wine\, and house cocktails.
URL:https://crossvines.com/event/happy-hour-3/2027-07-16/
CATEGORIES:Events
END:VEVENT
BEGIN:VEVENT
DTSTART;TZID=UTC:20270721T150000
DTEND;TZID=UTC:20270721T180000
DTSTAMP:20260420T104012
CREATED:20260416T184026Z
LAST-MODIFIED:20260416T184232Z
UID:10000686-1816182000-1816192800@crossvines.com
SUMMARY:Happy Hour!
DESCRIPTION:Join us in the Bistro Bar for Happy Hour and enjoy $2 off appetizers\, draft beer\, select Crossvines wine\, and house cocktails.
URL:https://crossvines.com/event/happy-hour-3/2027-07-21/
CATEGORIES:Events
END:VEVENT
BEGIN:VEVENT
DTSTART;TZID=UTC:20270722T150000
DTEND;TZID=UTC:20270722T180000
DTSTAMP:20260420T104012
CREATED:20260416T184026Z
LAST-MODIFIED:20260416T184232Z
UID:10000687-1816268400-1816279200@crossvines.com
SUMMARY:Happy Hour!
DESCRIPTION:Join us in the Bistro Bar for Happy Hour and enjoy $2 off appetizers\, draft beer\, select Crossvines wine\, and house cocktails.
URL:https://crossvines.com/event/happy-hour-3/2027-07-22/
CATEGORIES:Events
END:VEVENT
BEGIN:VEVENT
DTSTART;TZID=UTC:20270723T150000
DTEND;TZID=UTC:20270723T180000
DTSTAMP:20260420T104012
CREATED:20260416T184026Z
LAST-MODIFIED:20260416T184232Z
UID:10000688-1816354800-1816365600@crossvines.com
SUMMARY:Happy Hour!
DESCRIPTION:Join us in the Bistro Bar for Happy Hour and enjoy $2 off appetizers\, draft beer\, select Crossvines wine\, and house cocktails.
URL:https://crossvines.com/event/happy-hour-3/2027-07-23/
CATEGORIES:Events
END:VEVENT
BEGIN:VEVENT
DTSTART;TZID=UTC:20270728T150000
DTEND;TZID=UTC:20270728T180000
DTSTAMP:20260420T104012
CREATED:20260416T184026Z
LAST-MODIFIED:20260416T184232Z
UID:10000689-1816786800-1816797600@crossvines.com
SUMMARY:Happy Hour!
DESCRIPTION:Join us in the Bistro Bar for Happy Hour and enjoy $2 off appetizers\, draft beer\, select Crossvines wine\, and house cocktails.
URL:https://crossvines.com/event/happy-hour-3/2027-07-28/
CATEGORIES:Events
END:VEVENT
BEGIN:VEVENT
DTSTART;TZID=UTC:20270729T150000
DTEND;TZID=UTC:20270729T180000
DTSTAMP:20260420T104012
CREATED:20260416T184026Z
LAST-MODIFIED:20260416T184232Z
UID:10000690-1816873200-1816884000@crossvines.com
SUMMARY:Happy Hour!
DESCRIPTION:Join us in the Bistro Bar for Happy Hour and enjoy $2 off appetizers\, draft beer\, select Crossvines wine\, and house cocktails.
URL:https://crossvines.com/event/happy-hour-3/2027-07-29/
CATEGORIES:Events
END:VEVENT
BEGIN:VEVENT
DTSTART;TZID=UTC:20270730T150000
DTEND;TZID=UTC:20270730T180000
DTSTAMP:20260420T104012
CREATED:20260416T184026Z
LAST-MODIFIED:20260416T184232Z
UID:10000691-1816959600-1816970400@crossvines.com
SUMMARY:Happy Hour!
DESCRIPTION:Join us in the Bistro Bar for Happy Hour and enjoy $2 off appetizers\, draft beer\, select Crossvines wine\, and house cocktails.
URL:https://crossvines.com/event/happy-hour-3/2027-07-30/
CATEGORIES:Events
END:VEVENT
END:VCALENDAR