BEGIN:VCALENDAR
VERSION:2.0
PRODID:-//The Crossvines - Poolesville, MD - ECPv6.15.20//NONSGML v1.0//EN
CALSCALE:GREGORIAN
METHOD:PUBLISH
X-ORIGINAL-URL:https://crossvines.com
X-WR-CALDESC:Events for The Crossvines - Poolesville, MD
REFRESH-INTERVAL;VALUE=DURATION:PT1H
X-Robots-Tag:noindex
X-PUBLISHED-TTL:PT1H
BEGIN:VTIMEZONE
TZID:UTC
BEGIN:STANDARD
TZOFFSETFROM:+0000
TZOFFSETTO:+0000
TZNAME:UTC
DTSTART:20270101T000000
END:STANDARD
END:VTIMEZONE
BEGIN:VEVENT
DTSTART;TZID=UTC:20280406T150000
DTEND;TZID=UTC:20280406T180000
DTSTAMP:20260422T115853
CREATED:20260416T184026Z
LAST-MODIFIED:20260416T184232Z
UID:10000798-1838646000-1838656800@crossvines.com
SUMMARY:Happy Hour!
DESCRIPTION:Join us in the Bistro Bar for Happy Hour and enjoy $2 off appetizers\, draft beer\, select Crossvines wine\, and house cocktails.
URL:https://crossvines.com/event/happy-hour-3/2028-04-06/
CATEGORIES:Events
END:VEVENT
BEGIN:VEVENT
DTSTART;TZID=UTC:20280407T150000
DTEND;TZID=UTC:20280407T180000
DTSTAMP:20260422T115853
CREATED:20260416T184026Z
LAST-MODIFIED:20260416T184232Z
UID:10000799-1838732400-1838743200@crossvines.com
SUMMARY:Happy Hour!
DESCRIPTION:Join us in the Bistro Bar for Happy Hour and enjoy $2 off appetizers\, draft beer\, select Crossvines wine\, and house cocktails.
URL:https://crossvines.com/event/happy-hour-3/2028-04-07/
CATEGORIES:Events
END:VEVENT
BEGIN:VEVENT
DTSTART;TZID=UTC:20280412T150000
DTEND;TZID=UTC:20280412T180000
DTSTAMP:20260422T115853
CREATED:20260416T184026Z
LAST-MODIFIED:20260416T184232Z
UID:10000800-1839164400-1839175200@crossvines.com
SUMMARY:Happy Hour!
DESCRIPTION:Join us in the Bistro Bar for Happy Hour and enjoy $2 off appetizers\, draft beer\, select Crossvines wine\, and house cocktails.
URL:https://crossvines.com/event/happy-hour-3/2028-04-12/
CATEGORIES:Events
END:VEVENT
BEGIN:VEVENT
DTSTART;TZID=UTC:20280413T150000
DTEND;TZID=UTC:20280413T180000
DTSTAMP:20260422T115853
CREATED:20260416T184026Z
LAST-MODIFIED:20260416T184232Z
UID:10000801-1839250800-1839261600@crossvines.com
SUMMARY:Happy Hour!
DESCRIPTION:Join us in the Bistro Bar for Happy Hour and enjoy $2 off appetizers\, draft beer\, select Crossvines wine\, and house cocktails.
URL:https://crossvines.com/event/happy-hour-3/2028-04-13/
CATEGORIES:Events
END:VEVENT
BEGIN:VEVENT
DTSTART;TZID=UTC:20280414T150000
DTEND;TZID=UTC:20280414T180000
DTSTAMP:20260422T115853
CREATED:20260416T184026Z
LAST-MODIFIED:20260416T184232Z
UID:10000802-1839337200-1839348000@crossvines.com
SUMMARY:Happy Hour!
DESCRIPTION:Join us in the Bistro Bar for Happy Hour and enjoy $2 off appetizers\, draft beer\, select Crossvines wine\, and house cocktails.
URL:https://crossvines.com/event/happy-hour-3/2028-04-14/
CATEGORIES:Events
END:VEVENT
BEGIN:VEVENT
DTSTART;TZID=UTC:20280419T150000
DTEND;TZID=UTC:20280419T180000
DTSTAMP:20260422T115853
CREATED:20260416T184026Z
LAST-MODIFIED:20260416T184232Z
UID:10000803-1839769200-1839780000@crossvines.com
SUMMARY:Happy Hour!
DESCRIPTION:Join us in the Bistro Bar for Happy Hour and enjoy $2 off appetizers\, draft beer\, select Crossvines wine\, and house cocktails.
URL:https://crossvines.com/event/happy-hour-3/2028-04-19/
CATEGORIES:Events
END:VEVENT
BEGIN:VEVENT
DTSTART;TZID=UTC:20280420T150000
DTEND;TZID=UTC:20280420T180000
DTSTAMP:20260422T115853
CREATED:20260416T184026Z
LAST-MODIFIED:20260416T184232Z
UID:10000804-1839855600-1839866400@crossvines.com
SUMMARY:Happy Hour!
DESCRIPTION:Join us in the Bistro Bar for Happy Hour and enjoy $2 off appetizers\, draft beer\, select Crossvines wine\, and house cocktails.
URL:https://crossvines.com/event/happy-hour-3/2028-04-20/
CATEGORIES:Events
END:VEVENT
BEGIN:VEVENT
DTSTART;TZID=UTC:20280421T150000
DTEND;TZID=UTC:20280421T180000
DTSTAMP:20260422T115853
CREATED:20260416T184026Z
LAST-MODIFIED:20260416T184232Z
UID:10000805-1839942000-1839952800@crossvines.com
SUMMARY:Happy Hour!
DESCRIPTION:Join us in the Bistro Bar for Happy Hour and enjoy $2 off appetizers\, draft beer\, select Crossvines wine\, and house cocktails.
URL:https://crossvines.com/event/happy-hour-3/2028-04-21/
CATEGORIES:Events
END:VEVENT
BEGIN:VEVENT
DTSTART;TZID=UTC:20280426T150000
DTEND;TZID=UTC:20280426T180000
DTSTAMP:20260422T115853
CREATED:20260416T184026Z
LAST-MODIFIED:20260416T184232Z
UID:10000806-1840374000-1840384800@crossvines.com
SUMMARY:Happy Hour!
DESCRIPTION:Join us in the Bistro Bar for Happy Hour and enjoy $2 off appetizers\, draft beer\, select Crossvines wine\, and house cocktails.
URL:https://crossvines.com/event/happy-hour-3/2028-04-26/
CATEGORIES:Events
END:VEVENT
BEGIN:VEVENT
DTSTART;TZID=UTC:20280427T150000
DTEND;TZID=UTC:20280427T180000
DTSTAMP:20260422T115853
CREATED:20260416T184026Z
LAST-MODIFIED:20260416T184232Z
UID:10000807-1840460400-1840471200@crossvines.com
SUMMARY:Happy Hour!
DESCRIPTION:Join us in the Bistro Bar for Happy Hour and enjoy $2 off appetizers\, draft beer\, select Crossvines wine\, and house cocktails.
URL:https://crossvines.com/event/happy-hour-3/2028-04-27/
CATEGORIES:Events
END:VEVENT
BEGIN:VEVENT
DTSTART;TZID=UTC:20280428T150000
DTEND;TZID=UTC:20280428T180000
DTSTAMP:20260422T115853
CREATED:20260416T184026Z
LAST-MODIFIED:20260416T184232Z
UID:10000808-1840546800-1840557600@crossvines.com
SUMMARY:Happy Hour!
DESCRIPTION:Join us in the Bistro Bar for Happy Hour and enjoy $2 off appetizers\, draft beer\, select Crossvines wine\, and house cocktails.
URL:https://crossvines.com/event/happy-hour-3/2028-04-28/
CATEGORIES:Events
END:VEVENT
BEGIN:VEVENT
DTSTART;TZID=UTC:20280503T150000
DTEND;TZID=UTC:20280503T180000
DTSTAMP:20260422T115853
CREATED:20260416T184026Z
LAST-MODIFIED:20260416T184232Z
UID:10000809-1840978800-1840989600@crossvines.com
SUMMARY:Happy Hour!
DESCRIPTION:Join us in the Bistro Bar for Happy Hour and enjoy $2 off appetizers\, draft beer\, select Crossvines wine\, and house cocktails.
URL:https://crossvines.com/event/happy-hour-3/2028-05-03/
CATEGORIES:Events
END:VEVENT
BEGIN:VEVENT
DTSTART;TZID=UTC:20280504T150000
DTEND;TZID=UTC:20280504T180000
DTSTAMP:20260422T115853
CREATED:20260416T184026Z
LAST-MODIFIED:20260416T184232Z
UID:10000810-1841065200-1841076000@crossvines.com
SUMMARY:Happy Hour!
DESCRIPTION:Join us in the Bistro Bar for Happy Hour and enjoy $2 off appetizers\, draft beer\, select Crossvines wine\, and house cocktails.
URL:https://crossvines.com/event/happy-hour-3/2028-05-04/
CATEGORIES:Events
END:VEVENT
BEGIN:VEVENT
DTSTART;TZID=UTC:20280505T150000
DTEND;TZID=UTC:20280505T180000
DTSTAMP:20260422T115853
CREATED:20260416T184026Z
LAST-MODIFIED:20260416T184232Z
UID:10000811-1841151600-1841162400@crossvines.com
SUMMARY:Happy Hour!
DESCRIPTION:Join us in the Bistro Bar for Happy Hour and enjoy $2 off appetizers\, draft beer\, select Crossvines wine\, and house cocktails.
URL:https://crossvines.com/event/happy-hour-3/2028-05-05/
CATEGORIES:Events
END:VEVENT
BEGIN:VEVENT
DTSTART;TZID=UTC:20280510T150000
DTEND;TZID=UTC:20280510T180000
DTSTAMP:20260422T115853
CREATED:20260416T184026Z
LAST-MODIFIED:20260416T184232Z
UID:10000812-1841583600-1841594400@crossvines.com
SUMMARY:Happy Hour!
DESCRIPTION:Join us in the Bistro Bar for Happy Hour and enjoy $2 off appetizers\, draft beer\, select Crossvines wine\, and house cocktails.
URL:https://crossvines.com/event/happy-hour-3/2028-05-10/
CATEGORIES:Events
END:VEVENT
BEGIN:VEVENT
DTSTART;TZID=UTC:20280511T150000
DTEND;TZID=UTC:20280511T180000
DTSTAMP:20260422T115853
CREATED:20260416T184026Z
LAST-MODIFIED:20260416T184232Z
UID:10000813-1841670000-1841680800@crossvines.com
SUMMARY:Happy Hour!
DESCRIPTION:Join us in the Bistro Bar for Happy Hour and enjoy $2 off appetizers\, draft beer\, select Crossvines wine\, and house cocktails.
URL:https://crossvines.com/event/happy-hour-3/2028-05-11/
CATEGORIES:Events
END:VEVENT
BEGIN:VEVENT
DTSTART;TZID=UTC:20280512T150000
DTEND;TZID=UTC:20280512T180000
DTSTAMP:20260422T115853
CREATED:20260416T184026Z
LAST-MODIFIED:20260416T184232Z
UID:10000814-1841756400-1841767200@crossvines.com
SUMMARY:Happy Hour!
DESCRIPTION:Join us in the Bistro Bar for Happy Hour and enjoy $2 off appetizers\, draft beer\, select Crossvines wine\, and house cocktails.
URL:https://crossvines.com/event/happy-hour-3/2028-05-12/
CATEGORIES:Events
END:VEVENT
BEGIN:VEVENT
DTSTART;TZID=UTC:20280517T150000
DTEND;TZID=UTC:20280517T180000
DTSTAMP:20260422T115853
CREATED:20260416T184026Z
LAST-MODIFIED:20260416T184232Z
UID:10000815-1842188400-1842199200@crossvines.com
SUMMARY:Happy Hour!
DESCRIPTION:Join us in the Bistro Bar for Happy Hour and enjoy $2 off appetizers\, draft beer\, select Crossvines wine\, and house cocktails.
URL:https://crossvines.com/event/happy-hour-3/2028-05-17/
CATEGORIES:Events
END:VEVENT
BEGIN:VEVENT
DTSTART;TZID=UTC:20280518T150000
DTEND;TZID=UTC:20280518T180000
DTSTAMP:20260422T115853
CREATED:20260416T184026Z
LAST-MODIFIED:20260416T184232Z
UID:10000816-1842274800-1842285600@crossvines.com
SUMMARY:Happy Hour!
DESCRIPTION:Join us in the Bistro Bar for Happy Hour and enjoy $2 off appetizers\, draft beer\, select Crossvines wine\, and house cocktails.
URL:https://crossvines.com/event/happy-hour-3/2028-05-18/
CATEGORIES:Events
END:VEVENT
BEGIN:VEVENT
DTSTART;TZID=UTC:20280519T150000
DTEND;TZID=UTC:20280519T180000
DTSTAMP:20260422T115853
CREATED:20260416T184026Z
LAST-MODIFIED:20260416T184232Z
UID:10000817-1842361200-1842372000@crossvines.com
SUMMARY:Happy Hour!
DESCRIPTION:Join us in the Bistro Bar for Happy Hour and enjoy $2 off appetizers\, draft beer\, select Crossvines wine\, and house cocktails.
URL:https://crossvines.com/event/happy-hour-3/2028-05-19/
CATEGORIES:Events
END:VEVENT
BEGIN:VEVENT
DTSTART;TZID=UTC:20280524T150000
DTEND;TZID=UTC:20280524T180000
DTSTAMP:20260422T115853
CREATED:20260416T184026Z
LAST-MODIFIED:20260416T184232Z
UID:10000818-1842793200-1842804000@crossvines.com
SUMMARY:Happy Hour!
DESCRIPTION:Join us in the Bistro Bar for Happy Hour and enjoy $2 off appetizers\, draft beer\, select Crossvines wine\, and house cocktails.
URL:https://crossvines.com/event/happy-hour-3/2028-05-24/
CATEGORIES:Events
END:VEVENT
BEGIN:VEVENT
DTSTART;TZID=UTC:20280525T150000
DTEND;TZID=UTC:20280525T180000
DTSTAMP:20260422T115853
CREATED:20260416T184026Z
LAST-MODIFIED:20260416T184232Z
UID:10000819-1842879600-1842890400@crossvines.com
SUMMARY:Happy Hour!
DESCRIPTION:Join us in the Bistro Bar for Happy Hour and enjoy $2 off appetizers\, draft beer\, select Crossvines wine\, and house cocktails.
URL:https://crossvines.com/event/happy-hour-3/2028-05-25/
CATEGORIES:Events
END:VEVENT
BEGIN:VEVENT
DTSTART;TZID=UTC:20280526T150000
DTEND;TZID=UTC:20280526T180000
DTSTAMP:20260422T115853
CREATED:20260416T184026Z
LAST-MODIFIED:20260416T184232Z
UID:10000820-1842966000-1842976800@crossvines.com
SUMMARY:Happy Hour!
DESCRIPTION:Join us in the Bistro Bar for Happy Hour and enjoy $2 off appetizers\, draft beer\, select Crossvines wine\, and house cocktails.
URL:https://crossvines.com/event/happy-hour-3/2028-05-26/
CATEGORIES:Events
END:VEVENT
BEGIN:VEVENT
DTSTART;TZID=UTC:20280531T150000
DTEND;TZID=UTC:20280531T180000
DTSTAMP:20260422T115853
CREATED:20260416T184026Z
LAST-MODIFIED:20260416T184232Z
UID:10000821-1843398000-1843408800@crossvines.com
SUMMARY:Happy Hour!
DESCRIPTION:Join us in the Bistro Bar for Happy Hour and enjoy $2 off appetizers\, draft beer\, select Crossvines wine\, and house cocktails.
URL:https://crossvines.com/event/happy-hour-3/2028-05-31/
CATEGORIES:Events
END:VEVENT
BEGIN:VEVENT
DTSTART;TZID=UTC:20280601T150000
DTEND;TZID=UTC:20280601T180000
DTSTAMP:20260422T115853
CREATED:20260416T184026Z
LAST-MODIFIED:20260416T184232Z
UID:10000822-1843484400-1843495200@crossvines.com
SUMMARY:Happy Hour!
DESCRIPTION:Join us in the Bistro Bar for Happy Hour and enjoy $2 off appetizers\, draft beer\, select Crossvines wine\, and house cocktails.
URL:https://crossvines.com/event/happy-hour-3/2028-06-01/
CATEGORIES:Events
END:VEVENT
BEGIN:VEVENT
DTSTART;TZID=UTC:20280602T150000
DTEND;TZID=UTC:20280602T180000
DTSTAMP:20260422T115853
CREATED:20260416T184026Z
LAST-MODIFIED:20260416T184232Z
UID:10000823-1843570800-1843581600@crossvines.com
SUMMARY:Happy Hour!
DESCRIPTION:Join us in the Bistro Bar for Happy Hour and enjoy $2 off appetizers\, draft beer\, select Crossvines wine\, and house cocktails.
URL:https://crossvines.com/event/happy-hour-3/2028-06-02/
CATEGORIES:Events
END:VEVENT
BEGIN:VEVENT
DTSTART;TZID=UTC:20280607T150000
DTEND;TZID=UTC:20280607T180000
DTSTAMP:20260422T115853
CREATED:20260416T184026Z
LAST-MODIFIED:20260416T184232Z
UID:10000824-1844002800-1844013600@crossvines.com
SUMMARY:Happy Hour!
DESCRIPTION:Join us in the Bistro Bar for Happy Hour and enjoy $2 off appetizers\, draft beer\, select Crossvines wine\, and house cocktails.
URL:https://crossvines.com/event/happy-hour-3/2028-06-07/
CATEGORIES:Events
END:VEVENT
BEGIN:VEVENT
DTSTART;TZID=UTC:20280608T150000
DTEND;TZID=UTC:20280608T180000
DTSTAMP:20260422T115853
CREATED:20260416T184026Z
LAST-MODIFIED:20260416T184232Z
UID:10000825-1844089200-1844100000@crossvines.com
SUMMARY:Happy Hour!
DESCRIPTION:Join us in the Bistro Bar for Happy Hour and enjoy $2 off appetizers\, draft beer\, select Crossvines wine\, and house cocktails.
URL:https://crossvines.com/event/happy-hour-3/2028-06-08/
CATEGORIES:Events
END:VEVENT
BEGIN:VEVENT
DTSTART;TZID=UTC:20280609T150000
DTEND;TZID=UTC:20280609T180000
DTSTAMP:20260422T115853
CREATED:20260416T184026Z
LAST-MODIFIED:20260416T184232Z
UID:10000826-1844175600-1844186400@crossvines.com
SUMMARY:Happy Hour!
DESCRIPTION:Join us in the Bistro Bar for Happy Hour and enjoy $2 off appetizers\, draft beer\, select Crossvines wine\, and house cocktails.
URL:https://crossvines.com/event/happy-hour-3/2028-06-09/
CATEGORIES:Events
END:VEVENT
BEGIN:VEVENT
DTSTART;TZID=UTC:20280614T150000
DTEND;TZID=UTC:20280614T180000
DTSTAMP:20260422T115853
CREATED:20260416T184026Z
LAST-MODIFIED:20260416T184232Z
UID:10000827-1844607600-1844618400@crossvines.com
SUMMARY:Happy Hour!
DESCRIPTION:Join us in the Bistro Bar for Happy Hour and enjoy $2 off appetizers\, draft beer\, select Crossvines wine\, and house cocktails.
URL:https://crossvines.com/event/happy-hour-3/2028-06-14/
CATEGORIES:Events
END:VEVENT
END:VCALENDAR