BEGIN:VCALENDAR
VERSION:2.0
PRODID:-//The Crossvines - Poolesville, MD - ECPv6.15.20//NONSGML v1.0//EN
CALSCALE:GREGORIAN
METHOD:PUBLISH
X-WR-CALNAME:The Crossvines - Poolesville, MD
X-ORIGINAL-URL:https://crossvines.com
X-WR-CALDESC:Events for The Crossvines - Poolesville, MD
REFRESH-INTERVAL;VALUE=DURATION:PT1H
X-Robots-Tag:noindex
X-PUBLISHED-TTL:PT1H
BEGIN:VTIMEZONE
TZID:UTC
BEGIN:STANDARD
TZOFFSETFROM:+0000
TZOFFSETTO:+0000
TZNAME:UTC
DTSTART:20260101T000000
END:STANDARD
END:VTIMEZONE
BEGIN:VEVENT
DTSTART;TZID=UTC:20271202T150000
DTEND;TZID=UTC:20271202T180000
DTSTAMP:20260424T113520
CREATED:20260416T184026Z
LAST-MODIFIED:20260416T184232Z
UID:10000744-1827759600-1827770400@crossvines.com
SUMMARY:Happy Hour!
DESCRIPTION:Join us in the Bistro Bar for Happy Hour and enjoy $2 off appetizers\, draft beer\, select Crossvines wine\, and house cocktails.
URL:https://crossvines.com/event/happy-hour-3/2027-12-02/
CATEGORIES:Events
END:VEVENT
BEGIN:VEVENT
DTSTART;TZID=UTC:20271203T150000
DTEND;TZID=UTC:20271203T180000
DTSTAMP:20260424T113520
CREATED:20260416T184026Z
LAST-MODIFIED:20260416T184232Z
UID:10000745-1827846000-1827856800@crossvines.com
SUMMARY:Happy Hour!
DESCRIPTION:Join us in the Bistro Bar for Happy Hour and enjoy $2 off appetizers\, draft beer\, select Crossvines wine\, and house cocktails.
URL:https://crossvines.com/event/happy-hour-3/2027-12-03/
CATEGORIES:Events
END:VEVENT
BEGIN:VEVENT
DTSTART;TZID=UTC:20271208T150000
DTEND;TZID=UTC:20271208T180000
DTSTAMP:20260424T113520
CREATED:20260416T184026Z
LAST-MODIFIED:20260416T184232Z
UID:10000746-1828278000-1828288800@crossvines.com
SUMMARY:Happy Hour!
DESCRIPTION:Join us in the Bistro Bar for Happy Hour and enjoy $2 off appetizers\, draft beer\, select Crossvines wine\, and house cocktails.
URL:https://crossvines.com/event/happy-hour-3/2027-12-08/
CATEGORIES:Events
END:VEVENT
BEGIN:VEVENT
DTSTART;TZID=UTC:20271209T150000
DTEND;TZID=UTC:20271209T180000
DTSTAMP:20260424T113520
CREATED:20260416T184026Z
LAST-MODIFIED:20260416T184232Z
UID:10000747-1828364400-1828375200@crossvines.com
SUMMARY:Happy Hour!
DESCRIPTION:Join us in the Bistro Bar for Happy Hour and enjoy $2 off appetizers\, draft beer\, select Crossvines wine\, and house cocktails.
URL:https://crossvines.com/event/happy-hour-3/2027-12-09/
CATEGORIES:Events
END:VEVENT
BEGIN:VEVENT
DTSTART;TZID=UTC:20271210T150000
DTEND;TZID=UTC:20271210T180000
DTSTAMP:20260424T113520
CREATED:20260416T184026Z
LAST-MODIFIED:20260416T184232Z
UID:10000748-1828450800-1828461600@crossvines.com
SUMMARY:Happy Hour!
DESCRIPTION:Join us in the Bistro Bar for Happy Hour and enjoy $2 off appetizers\, draft beer\, select Crossvines wine\, and house cocktails.
URL:https://crossvines.com/event/happy-hour-3/2027-12-10/
CATEGORIES:Events
END:VEVENT
BEGIN:VEVENT
DTSTART;TZID=UTC:20271215T150000
DTEND;TZID=UTC:20271215T180000
DTSTAMP:20260424T113520
CREATED:20260416T184026Z
LAST-MODIFIED:20260416T184232Z
UID:10000749-1828882800-1828893600@crossvines.com
SUMMARY:Happy Hour!
DESCRIPTION:Join us in the Bistro Bar for Happy Hour and enjoy $2 off appetizers\, draft beer\, select Crossvines wine\, and house cocktails.
URL:https://crossvines.com/event/happy-hour-3/2027-12-15/
CATEGORIES:Events
END:VEVENT
BEGIN:VEVENT
DTSTART;TZID=UTC:20271216T150000
DTEND;TZID=UTC:20271216T180000
DTSTAMP:20260424T113520
CREATED:20260416T184026Z
LAST-MODIFIED:20260416T184232Z
UID:10000750-1828969200-1828980000@crossvines.com
SUMMARY:Happy Hour!
DESCRIPTION:Join us in the Bistro Bar for Happy Hour and enjoy $2 off appetizers\, draft beer\, select Crossvines wine\, and house cocktails.
URL:https://crossvines.com/event/happy-hour-3/2027-12-16/
CATEGORIES:Events
END:VEVENT
BEGIN:VEVENT
DTSTART;TZID=UTC:20271217T150000
DTEND;TZID=UTC:20271217T180000
DTSTAMP:20260424T113520
CREATED:20260416T184026Z
LAST-MODIFIED:20260416T184232Z
UID:10000751-1829055600-1829066400@crossvines.com
SUMMARY:Happy Hour!
DESCRIPTION:Join us in the Bistro Bar for Happy Hour and enjoy $2 off appetizers\, draft beer\, select Crossvines wine\, and house cocktails.
URL:https://crossvines.com/event/happy-hour-3/2027-12-17/
CATEGORIES:Events
END:VEVENT
BEGIN:VEVENT
DTSTART;TZID=UTC:20271222T150000
DTEND;TZID=UTC:20271222T180000
DTSTAMP:20260424T113520
CREATED:20260416T184026Z
LAST-MODIFIED:20260416T184232Z
UID:10000752-1829487600-1829498400@crossvines.com
SUMMARY:Happy Hour!
DESCRIPTION:Join us in the Bistro Bar for Happy Hour and enjoy $2 off appetizers\, draft beer\, select Crossvines wine\, and house cocktails.
URL:https://crossvines.com/event/happy-hour-3/2027-12-22/
CATEGORIES:Events
END:VEVENT
BEGIN:VEVENT
DTSTART;TZID=UTC:20271223T150000
DTEND;TZID=UTC:20271223T180000
DTSTAMP:20260424T113520
CREATED:20260416T184026Z
LAST-MODIFIED:20260416T184232Z
UID:10000753-1829574000-1829584800@crossvines.com
SUMMARY:Happy Hour!
DESCRIPTION:Join us in the Bistro Bar for Happy Hour and enjoy $2 off appetizers\, draft beer\, select Crossvines wine\, and house cocktails.
URL:https://crossvines.com/event/happy-hour-3/2027-12-23/
CATEGORIES:Events
END:VEVENT
BEGIN:VEVENT
DTSTART;TZID=UTC:20271224T150000
DTEND;TZID=UTC:20271224T180000
DTSTAMP:20260424T113520
CREATED:20260416T184026Z
LAST-MODIFIED:20260416T184232Z
UID:10000754-1829660400-1829671200@crossvines.com
SUMMARY:Happy Hour!
DESCRIPTION:Join us in the Bistro Bar for Happy Hour and enjoy $2 off appetizers\, draft beer\, select Crossvines wine\, and house cocktails.
URL:https://crossvines.com/event/happy-hour-3/2027-12-24/
CATEGORIES:Events
END:VEVENT
BEGIN:VEVENT
DTSTART;TZID=UTC:20271229T150000
DTEND;TZID=UTC:20271229T180000
DTSTAMP:20260424T113520
CREATED:20260416T184026Z
LAST-MODIFIED:20260416T184232Z
UID:10000755-1830092400-1830103200@crossvines.com
SUMMARY:Happy Hour!
DESCRIPTION:Join us in the Bistro Bar for Happy Hour and enjoy $2 off appetizers\, draft beer\, select Crossvines wine\, and house cocktails.
URL:https://crossvines.com/event/happy-hour-3/2027-12-29/
CATEGORIES:Events
END:VEVENT
BEGIN:VEVENT
DTSTART;TZID=UTC:20271230T150000
DTEND;TZID=UTC:20271230T180000
DTSTAMP:20260424T113520
CREATED:20260416T184026Z
LAST-MODIFIED:20260416T184232Z
UID:10000756-1830178800-1830189600@crossvines.com
SUMMARY:Happy Hour!
DESCRIPTION:Join us in the Bistro Bar for Happy Hour and enjoy $2 off appetizers\, draft beer\, select Crossvines wine\, and house cocktails.
URL:https://crossvines.com/event/happy-hour-3/2027-12-30/
CATEGORIES:Events
END:VEVENT
BEGIN:VEVENT
DTSTART;TZID=UTC:20271231T150000
DTEND;TZID=UTC:20271231T180000
DTSTAMP:20260424T113520
CREATED:20260416T184026Z
LAST-MODIFIED:20260416T184232Z
UID:10000757-1830265200-1830276000@crossvines.com
SUMMARY:Happy Hour!
DESCRIPTION:Join us in the Bistro Bar for Happy Hour and enjoy $2 off appetizers\, draft beer\, select Crossvines wine\, and house cocktails.
URL:https://crossvines.com/event/happy-hour-3/2027-12-31/
CATEGORIES:Events
END:VEVENT
BEGIN:VEVENT
DTSTART;TZID=UTC:20280105T150000
DTEND;TZID=UTC:20280105T180000
DTSTAMP:20260424T113520
CREATED:20260416T184026Z
LAST-MODIFIED:20260416T184232Z
UID:10000758-1830697200-1830708000@crossvines.com
SUMMARY:Happy Hour!
DESCRIPTION:Join us in the Bistro Bar for Happy Hour and enjoy $2 off appetizers\, draft beer\, select Crossvines wine\, and house cocktails.
URL:https://crossvines.com/event/happy-hour-3/2028-01-05/
CATEGORIES:Events
END:VEVENT
BEGIN:VEVENT
DTSTART;TZID=UTC:20280106T150000
DTEND;TZID=UTC:20280106T180000
DTSTAMP:20260424T113520
CREATED:20260416T184026Z
LAST-MODIFIED:20260416T184232Z
UID:10000759-1830783600-1830794400@crossvines.com
SUMMARY:Happy Hour!
DESCRIPTION:Join us in the Bistro Bar for Happy Hour and enjoy $2 off appetizers\, draft beer\, select Crossvines wine\, and house cocktails.
URL:https://crossvines.com/event/happy-hour-3/2028-01-06/
CATEGORIES:Events
END:VEVENT
BEGIN:VEVENT
DTSTART;TZID=UTC:20280107T150000
DTEND;TZID=UTC:20280107T180000
DTSTAMP:20260424T113520
CREATED:20260416T184026Z
LAST-MODIFIED:20260416T184232Z
UID:10000760-1830870000-1830880800@crossvines.com
SUMMARY:Happy Hour!
DESCRIPTION:Join us in the Bistro Bar for Happy Hour and enjoy $2 off appetizers\, draft beer\, select Crossvines wine\, and house cocktails.
URL:https://crossvines.com/event/happy-hour-3/2028-01-07/
CATEGORIES:Events
END:VEVENT
BEGIN:VEVENT
DTSTART;TZID=UTC:20280112T150000
DTEND;TZID=UTC:20280112T180000
DTSTAMP:20260424T113520
CREATED:20260416T184026Z
LAST-MODIFIED:20260416T184232Z
UID:10000761-1831302000-1831312800@crossvines.com
SUMMARY:Happy Hour!
DESCRIPTION:Join us in the Bistro Bar for Happy Hour and enjoy $2 off appetizers\, draft beer\, select Crossvines wine\, and house cocktails.
URL:https://crossvines.com/event/happy-hour-3/2028-01-12/
CATEGORIES:Events
END:VEVENT
BEGIN:VEVENT
DTSTART;TZID=UTC:20280113T150000
DTEND;TZID=UTC:20280113T180000
DTSTAMP:20260424T113520
CREATED:20260416T184026Z
LAST-MODIFIED:20260416T184232Z
UID:10000762-1831388400-1831399200@crossvines.com
SUMMARY:Happy Hour!
DESCRIPTION:Join us in the Bistro Bar for Happy Hour and enjoy $2 off appetizers\, draft beer\, select Crossvines wine\, and house cocktails.
URL:https://crossvines.com/event/happy-hour-3/2028-01-13/
CATEGORIES:Events
END:VEVENT
BEGIN:VEVENT
DTSTART;TZID=UTC:20280114T150000
DTEND;TZID=UTC:20280114T180000
DTSTAMP:20260424T113520
CREATED:20260416T184026Z
LAST-MODIFIED:20260416T184232Z
UID:10000763-1831474800-1831485600@crossvines.com
SUMMARY:Happy Hour!
DESCRIPTION:Join us in the Bistro Bar for Happy Hour and enjoy $2 off appetizers\, draft beer\, select Crossvines wine\, and house cocktails.
URL:https://crossvines.com/event/happy-hour-3/2028-01-14/
CATEGORIES:Events
END:VEVENT
BEGIN:VEVENT
DTSTART;TZID=UTC:20280119T150000
DTEND;TZID=UTC:20280119T180000
DTSTAMP:20260424T113520
CREATED:20260416T184026Z
LAST-MODIFIED:20260416T184232Z
UID:10000764-1831906800-1831917600@crossvines.com
SUMMARY:Happy Hour!
DESCRIPTION:Join us in the Bistro Bar for Happy Hour and enjoy $2 off appetizers\, draft beer\, select Crossvines wine\, and house cocktails.
URL:https://crossvines.com/event/happy-hour-3/2028-01-19/
CATEGORIES:Events
END:VEVENT
BEGIN:VEVENT
DTSTART;TZID=UTC:20280120T150000
DTEND;TZID=UTC:20280120T180000
DTSTAMP:20260424T113520
CREATED:20260416T184026Z
LAST-MODIFIED:20260416T184232Z
UID:10000765-1831993200-1832004000@crossvines.com
SUMMARY:Happy Hour!
DESCRIPTION:Join us in the Bistro Bar for Happy Hour and enjoy $2 off appetizers\, draft beer\, select Crossvines wine\, and house cocktails.
URL:https://crossvines.com/event/happy-hour-3/2028-01-20/
CATEGORIES:Events
END:VEVENT
BEGIN:VEVENT
DTSTART;TZID=UTC:20280121T150000
DTEND;TZID=UTC:20280121T180000
DTSTAMP:20260424T113520
CREATED:20260416T184026Z
LAST-MODIFIED:20260416T184232Z
UID:10000766-1832079600-1832090400@crossvines.com
SUMMARY:Happy Hour!
DESCRIPTION:Join us in the Bistro Bar for Happy Hour and enjoy $2 off appetizers\, draft beer\, select Crossvines wine\, and house cocktails.
URL:https://crossvines.com/event/happy-hour-3/2028-01-21/
CATEGORIES:Events
END:VEVENT
BEGIN:VEVENT
DTSTART;TZID=UTC:20280126T150000
DTEND;TZID=UTC:20280126T180000
DTSTAMP:20260424T113520
CREATED:20260416T184026Z
LAST-MODIFIED:20260416T184232Z
UID:10000767-1832511600-1832522400@crossvines.com
SUMMARY:Happy Hour!
DESCRIPTION:Join us in the Bistro Bar for Happy Hour and enjoy $2 off appetizers\, draft beer\, select Crossvines wine\, and house cocktails.
URL:https://crossvines.com/event/happy-hour-3/2028-01-26/
CATEGORIES:Events
END:VEVENT
BEGIN:VEVENT
DTSTART;TZID=UTC:20280127T150000
DTEND;TZID=UTC:20280127T180000
DTSTAMP:20260424T113520
CREATED:20260416T184026Z
LAST-MODIFIED:20260416T184232Z
UID:10000768-1832598000-1832608800@crossvines.com
SUMMARY:Happy Hour!
DESCRIPTION:Join us in the Bistro Bar for Happy Hour and enjoy $2 off appetizers\, draft beer\, select Crossvines wine\, and house cocktails.
URL:https://crossvines.com/event/happy-hour-3/2028-01-27/
CATEGORIES:Events
END:VEVENT
BEGIN:VEVENT
DTSTART;TZID=UTC:20280128T150000
DTEND;TZID=UTC:20280128T180000
DTSTAMP:20260424T113520
CREATED:20260416T184026Z
LAST-MODIFIED:20260416T184232Z
UID:10000769-1832684400-1832695200@crossvines.com
SUMMARY:Happy Hour!
DESCRIPTION:Join us in the Bistro Bar for Happy Hour and enjoy $2 off appetizers\, draft beer\, select Crossvines wine\, and house cocktails.
URL:https://crossvines.com/event/happy-hour-3/2028-01-28/
CATEGORIES:Events
END:VEVENT
BEGIN:VEVENT
DTSTART;TZID=UTC:20280202T150000
DTEND;TZID=UTC:20280202T180000
DTSTAMP:20260424T113520
CREATED:20260416T184026Z
LAST-MODIFIED:20260416T184232Z
UID:10000770-1833116400-1833127200@crossvines.com
SUMMARY:Happy Hour!
DESCRIPTION:Join us in the Bistro Bar for Happy Hour and enjoy $2 off appetizers\, draft beer\, select Crossvines wine\, and house cocktails.
URL:https://crossvines.com/event/happy-hour-3/2028-02-02/
CATEGORIES:Events
END:VEVENT
BEGIN:VEVENT
DTSTART;TZID=UTC:20280203T150000
DTEND;TZID=UTC:20280203T180000
DTSTAMP:20260424T113520
CREATED:20260416T184026Z
LAST-MODIFIED:20260416T184232Z
UID:10000771-1833202800-1833213600@crossvines.com
SUMMARY:Happy Hour!
DESCRIPTION:Join us in the Bistro Bar for Happy Hour and enjoy $2 off appetizers\, draft beer\, select Crossvines wine\, and house cocktails.
URL:https://crossvines.com/event/happy-hour-3/2028-02-03/
CATEGORIES:Events
END:VEVENT
BEGIN:VEVENT
DTSTART;TZID=UTC:20280204T150000
DTEND;TZID=UTC:20280204T180000
DTSTAMP:20260424T113520
CREATED:20260416T184026Z
LAST-MODIFIED:20260416T184232Z
UID:10000772-1833289200-1833300000@crossvines.com
SUMMARY:Happy Hour!
DESCRIPTION:Join us in the Bistro Bar for Happy Hour and enjoy $2 off appetizers\, draft beer\, select Crossvines wine\, and house cocktails.
URL:https://crossvines.com/event/happy-hour-3/2028-02-04/
CATEGORIES:Events
END:VEVENT
BEGIN:VEVENT
DTSTART;TZID=UTC:20280209T150000
DTEND;TZID=UTC:20280209T180000
DTSTAMP:20260424T113520
CREATED:20260416T184026Z
LAST-MODIFIED:20260416T184232Z
UID:10000773-1833721200-1833732000@crossvines.com
SUMMARY:Happy Hour!
DESCRIPTION:Join us in the Bistro Bar for Happy Hour and enjoy $2 off appetizers\, draft beer\, select Crossvines wine\, and house cocktails.
URL:https://crossvines.com/event/happy-hour-3/2028-02-09/
CATEGORIES:Events
END:VEVENT
END:VCALENDAR