BEGIN:VCALENDAR
VERSION:2.0
PRODID:-//The Crossvines - Poolesville, MD - ECPv6.15.20//NONSGML v1.0//EN
CALSCALE:GREGORIAN
METHOD:PUBLISH
X-ORIGINAL-URL:https://crossvines.com
X-WR-CALDESC:Events for The Crossvines - Poolesville, MD
REFRESH-INTERVAL;VALUE=DURATION:PT1H
X-Robots-Tag:noindex
X-PUBLISHED-TTL:PT1H
BEGIN:VTIMEZONE
TZID:UTC
BEGIN:STANDARD
TZOFFSETFROM:+0000
TZOFFSETTO:+0000
TZNAME:UTC
DTSTART:20270101T000000
END:STANDARD
END:VTIMEZONE
BEGIN:VEVENT
DTSTART;TZID=UTC:20280728T150000
DTEND;TZID=UTC:20280728T180000
DTSTAMP:20260424T135416
CREATED:20260416T184026Z
LAST-MODIFIED:20260416T184232Z
UID:10000847-1848409200-1848420000@crossvines.com
SUMMARY:Happy Hour!
DESCRIPTION:Join us in the Bistro Bar for Happy Hour and enjoy $2 off appetizers\, draft beer\, select Crossvines wine\, and house cocktails.
URL:https://crossvines.com/event/happy-hour-3/2028-07-28/
CATEGORIES:Events
END:VEVENT
BEGIN:VEVENT
DTSTART;TZID=UTC:20280802T150000
DTEND;TZID=UTC:20280802T180000
DTSTAMP:20260424T135416
CREATED:20260416T184026Z
LAST-MODIFIED:20260416T184232Z
UID:10000848-1848841200-1848852000@crossvines.com
SUMMARY:Happy Hour!
DESCRIPTION:Join us in the Bistro Bar for Happy Hour and enjoy $2 off appetizers\, draft beer\, select Crossvines wine\, and house cocktails.
URL:https://crossvines.com/event/happy-hour-3/2028-08-02/
CATEGORIES:Events
END:VEVENT
BEGIN:VEVENT
DTSTART;TZID=UTC:20280803T150000
DTEND;TZID=UTC:20280803T180000
DTSTAMP:20260424T135416
CREATED:20260416T184026Z
LAST-MODIFIED:20260416T184232Z
UID:10000849-1848927600-1848938400@crossvines.com
SUMMARY:Happy Hour!
DESCRIPTION:Join us in the Bistro Bar for Happy Hour and enjoy $2 off appetizers\, draft beer\, select Crossvines wine\, and house cocktails.
URL:https://crossvines.com/event/happy-hour-3/2028-08-03/
CATEGORIES:Events
END:VEVENT
BEGIN:VEVENT
DTSTART;TZID=UTC:20280804T150000
DTEND;TZID=UTC:20280804T180000
DTSTAMP:20260424T135416
CREATED:20260416T184026Z
LAST-MODIFIED:20260416T184232Z
UID:10000850-1849014000-1849024800@crossvines.com
SUMMARY:Happy Hour!
DESCRIPTION:Join us in the Bistro Bar for Happy Hour and enjoy $2 off appetizers\, draft beer\, select Crossvines wine\, and house cocktails.
URL:https://crossvines.com/event/happy-hour-3/2028-08-04/
CATEGORIES:Events
END:VEVENT
BEGIN:VEVENT
DTSTART;TZID=UTC:20280809T150000
DTEND;TZID=UTC:20280809T180000
DTSTAMP:20260424T135416
CREATED:20260416T184026Z
LAST-MODIFIED:20260416T184232Z
UID:10000851-1849446000-1849456800@crossvines.com
SUMMARY:Happy Hour!
DESCRIPTION:Join us in the Bistro Bar for Happy Hour and enjoy $2 off appetizers\, draft beer\, select Crossvines wine\, and house cocktails.
URL:https://crossvines.com/event/happy-hour-3/2028-08-09/
CATEGORIES:Events
END:VEVENT
BEGIN:VEVENT
DTSTART;TZID=UTC:20280810T150000
DTEND;TZID=UTC:20280810T180000
DTSTAMP:20260424T135416
CREATED:20260416T184026Z
LAST-MODIFIED:20260416T184232Z
UID:10000852-1849532400-1849543200@crossvines.com
SUMMARY:Happy Hour!
DESCRIPTION:Join us in the Bistro Bar for Happy Hour and enjoy $2 off appetizers\, draft beer\, select Crossvines wine\, and house cocktails.
URL:https://crossvines.com/event/happy-hour-3/2028-08-10/
CATEGORIES:Events
END:VEVENT
BEGIN:VEVENT
DTSTART;TZID=UTC:20280811T150000
DTEND;TZID=UTC:20280811T180000
DTSTAMP:20260424T135416
CREATED:20260416T184026Z
LAST-MODIFIED:20260416T184232Z
UID:10000853-1849618800-1849629600@crossvines.com
SUMMARY:Happy Hour!
DESCRIPTION:Join us in the Bistro Bar for Happy Hour and enjoy $2 off appetizers\, draft beer\, select Crossvines wine\, and house cocktails.
URL:https://crossvines.com/event/happy-hour-3/2028-08-11/
CATEGORIES:Events
END:VEVENT
BEGIN:VEVENT
DTSTART;TZID=UTC:20280816T150000
DTEND;TZID=UTC:20280816T180000
DTSTAMP:20260424T135416
CREATED:20260416T184026Z
LAST-MODIFIED:20260416T184232Z
UID:10000854-1850050800-1850061600@crossvines.com
SUMMARY:Happy Hour!
DESCRIPTION:Join us in the Bistro Bar for Happy Hour and enjoy $2 off appetizers\, draft beer\, select Crossvines wine\, and house cocktails.
URL:https://crossvines.com/event/happy-hour-3/2028-08-16/
CATEGORIES:Events
END:VEVENT
BEGIN:VEVENT
DTSTART;TZID=UTC:20280817T150000
DTEND;TZID=UTC:20280817T180000
DTSTAMP:20260424T135416
CREATED:20260416T184026Z
LAST-MODIFIED:20260416T184232Z
UID:10000855-1850137200-1850148000@crossvines.com
SUMMARY:Happy Hour!
DESCRIPTION:Join us in the Bistro Bar for Happy Hour and enjoy $2 off appetizers\, draft beer\, select Crossvines wine\, and house cocktails.
URL:https://crossvines.com/event/happy-hour-3/2028-08-17/
CATEGORIES:Events
END:VEVENT
BEGIN:VEVENT
DTSTART;TZID=UTC:20280818T150000
DTEND;TZID=UTC:20280818T180000
DTSTAMP:20260424T135416
CREATED:20260416T184026Z
LAST-MODIFIED:20260416T184232Z
UID:10000856-1850223600-1850234400@crossvines.com
SUMMARY:Happy Hour!
DESCRIPTION:Join us in the Bistro Bar for Happy Hour and enjoy $2 off appetizers\, draft beer\, select Crossvines wine\, and house cocktails.
URL:https://crossvines.com/event/happy-hour-3/2028-08-18/
CATEGORIES:Events
END:VEVENT
BEGIN:VEVENT
DTSTART;TZID=UTC:20280823T150000
DTEND;TZID=UTC:20280823T180000
DTSTAMP:20260424T135416
CREATED:20260416T184026Z
LAST-MODIFIED:20260416T184232Z
UID:10000857-1850655600-1850666400@crossvines.com
SUMMARY:Happy Hour!
DESCRIPTION:Join us in the Bistro Bar for Happy Hour and enjoy $2 off appetizers\, draft beer\, select Crossvines wine\, and house cocktails.
URL:https://crossvines.com/event/happy-hour-3/2028-08-23/
CATEGORIES:Events
END:VEVENT
BEGIN:VEVENT
DTSTART;TZID=UTC:20280824T150000
DTEND;TZID=UTC:20280824T180000
DTSTAMP:20260424T135416
CREATED:20260416T184026Z
LAST-MODIFIED:20260416T184232Z
UID:10000858-1850742000-1850752800@crossvines.com
SUMMARY:Happy Hour!
DESCRIPTION:Join us in the Bistro Bar for Happy Hour and enjoy $2 off appetizers\, draft beer\, select Crossvines wine\, and house cocktails.
URL:https://crossvines.com/event/happy-hour-3/2028-08-24/
CATEGORIES:Events
END:VEVENT
BEGIN:VEVENT
DTSTART;TZID=UTC:20280825T150000
DTEND;TZID=UTC:20280825T180000
DTSTAMP:20260424T135416
CREATED:20260416T184026Z
LAST-MODIFIED:20260416T184232Z
UID:10000859-1850828400-1850839200@crossvines.com
SUMMARY:Happy Hour!
DESCRIPTION:Join us in the Bistro Bar for Happy Hour and enjoy $2 off appetizers\, draft beer\, select Crossvines wine\, and house cocktails.
URL:https://crossvines.com/event/happy-hour-3/2028-08-25/
CATEGORIES:Events
END:VEVENT
BEGIN:VEVENT
DTSTART;TZID=UTC:20280830T150000
DTEND;TZID=UTC:20280830T180000
DTSTAMP:20260424T135416
CREATED:20260416T184026Z
LAST-MODIFIED:20260416T184232Z
UID:10000860-1851260400-1851271200@crossvines.com
SUMMARY:Happy Hour!
DESCRIPTION:Join us in the Bistro Bar for Happy Hour and enjoy $2 off appetizers\, draft beer\, select Crossvines wine\, and house cocktails.
URL:https://crossvines.com/event/happy-hour-3/2028-08-30/
CATEGORIES:Events
END:VEVENT
BEGIN:VEVENT
DTSTART;TZID=UTC:20280831T150000
DTEND;TZID=UTC:20280831T180000
DTSTAMP:20260424T135416
CREATED:20260416T184026Z
LAST-MODIFIED:20260416T184232Z
UID:10000861-1851346800-1851357600@crossvines.com
SUMMARY:Happy Hour!
DESCRIPTION:Join us in the Bistro Bar for Happy Hour and enjoy $2 off appetizers\, draft beer\, select Crossvines wine\, and house cocktails.
URL:https://crossvines.com/event/happy-hour-3/2028-08-31/
CATEGORIES:Events
END:VEVENT
BEGIN:VEVENT
DTSTART;TZID=UTC:20280901T150000
DTEND;TZID=UTC:20280901T180000
DTSTAMP:20260424T135416
CREATED:20260416T184026Z
LAST-MODIFIED:20260416T184232Z
UID:10000862-1851433200-1851444000@crossvines.com
SUMMARY:Happy Hour!
DESCRIPTION:Join us in the Bistro Bar for Happy Hour and enjoy $2 off appetizers\, draft beer\, select Crossvines wine\, and house cocktails.
URL:https://crossvines.com/event/happy-hour-3/2028-09-01/
CATEGORIES:Events
END:VEVENT
BEGIN:VEVENT
DTSTART;TZID=UTC:20280906T150000
DTEND;TZID=UTC:20280906T180000
DTSTAMP:20260424T135416
CREATED:20260416T184026Z
LAST-MODIFIED:20260416T184232Z
UID:10000863-1851865200-1851876000@crossvines.com
SUMMARY:Happy Hour!
DESCRIPTION:Join us in the Bistro Bar for Happy Hour and enjoy $2 off appetizers\, draft beer\, select Crossvines wine\, and house cocktails.
URL:https://crossvines.com/event/happy-hour-3/2028-09-06/
CATEGORIES:Events
END:VEVENT
BEGIN:VEVENT
DTSTART;TZID=UTC:20280907T150000
DTEND;TZID=UTC:20280907T180000
DTSTAMP:20260424T135416
CREATED:20260416T184026Z
LAST-MODIFIED:20260416T184232Z
UID:10000864-1851951600-1851962400@crossvines.com
SUMMARY:Happy Hour!
DESCRIPTION:Join us in the Bistro Bar for Happy Hour and enjoy $2 off appetizers\, draft beer\, select Crossvines wine\, and house cocktails.
URL:https://crossvines.com/event/happy-hour-3/2028-09-07/
CATEGORIES:Events
END:VEVENT
BEGIN:VEVENT
DTSTART;TZID=UTC:20280908T150000
DTEND;TZID=UTC:20280908T180000
DTSTAMP:20260424T135416
CREATED:20260416T184026Z
LAST-MODIFIED:20260416T184232Z
UID:10000865-1852038000-1852048800@crossvines.com
SUMMARY:Happy Hour!
DESCRIPTION:Join us in the Bistro Bar for Happy Hour and enjoy $2 off appetizers\, draft beer\, select Crossvines wine\, and house cocktails.
URL:https://crossvines.com/event/happy-hour-3/2028-09-08/
CATEGORIES:Events
END:VEVENT
BEGIN:VEVENT
DTSTART;TZID=UTC:20280913T150000
DTEND;TZID=UTC:20280913T180000
DTSTAMP:20260424T135416
CREATED:20260416T184026Z
LAST-MODIFIED:20260416T184232Z
UID:10000866-1852470000-1852480800@crossvines.com
SUMMARY:Happy Hour!
DESCRIPTION:Join us in the Bistro Bar for Happy Hour and enjoy $2 off appetizers\, draft beer\, select Crossvines wine\, and house cocktails.
URL:https://crossvines.com/event/happy-hour-3/2028-09-13/
CATEGORIES:Events
END:VEVENT
BEGIN:VEVENT
DTSTART;TZID=UTC:20280914T150000
DTEND;TZID=UTC:20280914T180000
DTSTAMP:20260424T135416
CREATED:20260416T184026Z
LAST-MODIFIED:20260416T184232Z
UID:10000867-1852556400-1852567200@crossvines.com
SUMMARY:Happy Hour!
DESCRIPTION:Join us in the Bistro Bar for Happy Hour and enjoy $2 off appetizers\, draft beer\, select Crossvines wine\, and house cocktails.
URL:https://crossvines.com/event/happy-hour-3/2028-09-14/
CATEGORIES:Events
END:VEVENT
BEGIN:VEVENT
DTSTART;TZID=UTC:20280915T150000
DTEND;TZID=UTC:20280915T180000
DTSTAMP:20260424T135416
CREATED:20260416T184026Z
LAST-MODIFIED:20260416T184232Z
UID:10000868-1852642800-1852653600@crossvines.com
SUMMARY:Happy Hour!
DESCRIPTION:Join us in the Bistro Bar for Happy Hour and enjoy $2 off appetizers\, draft beer\, select Crossvines wine\, and house cocktails.
URL:https://crossvines.com/event/happy-hour-3/2028-09-15/
CATEGORIES:Events
END:VEVENT
BEGIN:VEVENT
DTSTART;TZID=UTC:20280920T150000
DTEND;TZID=UTC:20280920T180000
DTSTAMP:20260424T135416
CREATED:20260416T184026Z
LAST-MODIFIED:20260416T184232Z
UID:10000869-1853074800-1853085600@crossvines.com
SUMMARY:Happy Hour!
DESCRIPTION:Join us in the Bistro Bar for Happy Hour and enjoy $2 off appetizers\, draft beer\, select Crossvines wine\, and house cocktails.
URL:https://crossvines.com/event/happy-hour-3/2028-09-20/
CATEGORIES:Events
END:VEVENT
BEGIN:VEVENT
DTSTART;TZID=UTC:20280921T150000
DTEND;TZID=UTC:20280921T180000
DTSTAMP:20260424T135416
CREATED:20260416T184026Z
LAST-MODIFIED:20260416T184232Z
UID:10000870-1853161200-1853172000@crossvines.com
SUMMARY:Happy Hour!
DESCRIPTION:Join us in the Bistro Bar for Happy Hour and enjoy $2 off appetizers\, draft beer\, select Crossvines wine\, and house cocktails.
URL:https://crossvines.com/event/happy-hour-3/2028-09-21/
CATEGORIES:Events
END:VEVENT
BEGIN:VEVENT
DTSTART;TZID=UTC:20280922T150000
DTEND;TZID=UTC:20280922T180000
DTSTAMP:20260424T135416
CREATED:20260416T184026Z
LAST-MODIFIED:20260416T184232Z
UID:10000871-1853247600-1853258400@crossvines.com
SUMMARY:Happy Hour!
DESCRIPTION:Join us in the Bistro Bar for Happy Hour and enjoy $2 off appetizers\, draft beer\, select Crossvines wine\, and house cocktails.
URL:https://crossvines.com/event/happy-hour-3/2028-09-22/
CATEGORIES:Events
END:VEVENT
BEGIN:VEVENT
DTSTART;TZID=UTC:20280927T150000
DTEND;TZID=UTC:20280927T180000
DTSTAMP:20260424T135416
CREATED:20260416T184026Z
LAST-MODIFIED:20260416T184232Z
UID:10000872-1853679600-1853690400@crossvines.com
SUMMARY:Happy Hour!
DESCRIPTION:Join us in the Bistro Bar for Happy Hour and enjoy $2 off appetizers\, draft beer\, select Crossvines wine\, and house cocktails.
URL:https://crossvines.com/event/happy-hour-3/2028-09-27/
CATEGORIES:Events
END:VEVENT
BEGIN:VEVENT
DTSTART;TZID=UTC:20280928T150000
DTEND;TZID=UTC:20280928T180000
DTSTAMP:20260424T135416
CREATED:20260416T184026Z
LAST-MODIFIED:20260416T184232Z
UID:10000873-1853766000-1853776800@crossvines.com
SUMMARY:Happy Hour!
DESCRIPTION:Join us in the Bistro Bar for Happy Hour and enjoy $2 off appetizers\, draft beer\, select Crossvines wine\, and house cocktails.
URL:https://crossvines.com/event/happy-hour-3/2028-09-28/
CATEGORIES:Events
END:VEVENT
BEGIN:VEVENT
DTSTART;TZID=UTC:20280929T150000
DTEND;TZID=UTC:20280929T180000
DTSTAMP:20260424T135416
CREATED:20260416T184026Z
LAST-MODIFIED:20260416T184232Z
UID:10000874-1853852400-1853863200@crossvines.com
SUMMARY:Happy Hour!
DESCRIPTION:Join us in the Bistro Bar for Happy Hour and enjoy $2 off appetizers\, draft beer\, select Crossvines wine\, and house cocktails.
URL:https://crossvines.com/event/happy-hour-3/2028-09-29/
CATEGORIES:Events
END:VEVENT
BEGIN:VEVENT
DTSTART;TZID=UTC:20281004T150000
DTEND;TZID=UTC:20281004T180000
DTSTAMP:20260424T135416
CREATED:20260416T184026Z
LAST-MODIFIED:20260416T184232Z
UID:10000875-1854284400-1854295200@crossvines.com
SUMMARY:Happy Hour!
DESCRIPTION:Join us in the Bistro Bar for Happy Hour and enjoy $2 off appetizers\, draft beer\, select Crossvines wine\, and house cocktails.
URL:https://crossvines.com/event/happy-hour-3/2028-10-04/
CATEGORIES:Events
END:VEVENT
BEGIN:VEVENT
DTSTART;TZID=UTC:20281005T150000
DTEND;TZID=UTC:20281005T180000
DTSTAMP:20260424T135416
CREATED:20260416T184026Z
LAST-MODIFIED:20260416T184232Z
UID:10000876-1854370800-1854381600@crossvines.com
SUMMARY:Happy Hour!
DESCRIPTION:Join us in the Bistro Bar for Happy Hour and enjoy $2 off appetizers\, draft beer\, select Crossvines wine\, and house cocktails.
URL:https://crossvines.com/event/happy-hour-3/2028-10-05/
CATEGORIES:Events
END:VEVENT
END:VCALENDAR