BEGIN:VCALENDAR
VERSION:2.0
PRODID:-//The Crossvines - Poolesville, MD - ECPv6.15.20//NONSGML v1.0//EN
CALSCALE:GREGORIAN
METHOD:PUBLISH
X-WR-CALNAME:The Crossvines - Poolesville, MD
X-ORIGINAL-URL:https://crossvines.com
X-WR-CALDESC:Events for The Crossvines - Poolesville, MD
REFRESH-INTERVAL;VALUE=DURATION:PT1H
X-Robots-Tag:noindex
X-PUBLISHED-TTL:PT1H
BEGIN:VTIMEZONE
TZID:UTC
BEGIN:STANDARD
TZOFFSETFROM:+0000
TZOFFSETTO:+0000
TZNAME:UTC
DTSTART:20250101T000000
END:STANDARD
END:VTIMEZONE
BEGIN:VEVENT
DTSTART;TZID=UTC:20261016T150000
DTEND;TZID=UTC:20261016T180000
DTSTAMP:20260419T195332
CREATED:20260416T184026Z
LAST-MODIFIED:20260416T184232Z
UID:10000568-1792162800-1792173600@crossvines.com
SUMMARY:Happy Hour!
DESCRIPTION:Join us in the Bistro Bar for Happy Hour and enjoy $2 off appetizers\, draft beer\, select Crossvines wine\, and house cocktails.
URL:https://crossvines.com/event/happy-hour-3/2026-10-16/
CATEGORIES:Events
END:VEVENT
BEGIN:VEVENT
DTSTART;TZID=UTC:20261021T150000
DTEND;TZID=UTC:20261021T180000
DTSTAMP:20260419T195332
CREATED:20260416T184026Z
LAST-MODIFIED:20260416T184232Z
UID:10000569-1792594800-1792605600@crossvines.com
SUMMARY:Happy Hour!
DESCRIPTION:Join us in the Bistro Bar for Happy Hour and enjoy $2 off appetizers\, draft beer\, select Crossvines wine\, and house cocktails.
URL:https://crossvines.com/event/happy-hour-3/2026-10-21/
CATEGORIES:Events
END:VEVENT
BEGIN:VEVENT
DTSTART;TZID=UTC:20261022T150000
DTEND;TZID=UTC:20261022T180000
DTSTAMP:20260419T195332
CREATED:20260416T184026Z
LAST-MODIFIED:20260416T184232Z
UID:10000570-1792681200-1792692000@crossvines.com
SUMMARY:Happy Hour!
DESCRIPTION:Join us in the Bistro Bar for Happy Hour and enjoy $2 off appetizers\, draft beer\, select Crossvines wine\, and house cocktails.
URL:https://crossvines.com/event/happy-hour-3/2026-10-22/
CATEGORIES:Events
END:VEVENT
BEGIN:VEVENT
DTSTART;TZID=UTC:20261023T150000
DTEND;TZID=UTC:20261023T180000
DTSTAMP:20260419T195332
CREATED:20260416T184026Z
LAST-MODIFIED:20260416T184232Z
UID:10000571-1792767600-1792778400@crossvines.com
SUMMARY:Happy Hour!
DESCRIPTION:Join us in the Bistro Bar for Happy Hour and enjoy $2 off appetizers\, draft beer\, select Crossvines wine\, and house cocktails.
URL:https://crossvines.com/event/happy-hour-3/2026-10-23/
CATEGORIES:Events
END:VEVENT
BEGIN:VEVENT
DTSTART;TZID=UTC:20261028T150000
DTEND;TZID=UTC:20261028T180000
DTSTAMP:20260419T195332
CREATED:20260416T184026Z
LAST-MODIFIED:20260416T184232Z
UID:10000572-1793199600-1793210400@crossvines.com
SUMMARY:Happy Hour!
DESCRIPTION:Join us in the Bistro Bar for Happy Hour and enjoy $2 off appetizers\, draft beer\, select Crossvines wine\, and house cocktails.
URL:https://crossvines.com/event/happy-hour-3/2026-10-28/
CATEGORIES:Events
END:VEVENT
BEGIN:VEVENT
DTSTART;TZID=UTC:20261029T150000
DTEND;TZID=UTC:20261029T180000
DTSTAMP:20260419T195332
CREATED:20260416T184026Z
LAST-MODIFIED:20260416T184232Z
UID:10000573-1793286000-1793296800@crossvines.com
SUMMARY:Happy Hour!
DESCRIPTION:Join us in the Bistro Bar for Happy Hour and enjoy $2 off appetizers\, draft beer\, select Crossvines wine\, and house cocktails.
URL:https://crossvines.com/event/happy-hour-3/2026-10-29/
CATEGORIES:Events
END:VEVENT
BEGIN:VEVENT
DTSTART;TZID=UTC:20261030T150000
DTEND;TZID=UTC:20261030T180000
DTSTAMP:20260419T195332
CREATED:20260416T184026Z
LAST-MODIFIED:20260416T184232Z
UID:10000574-1793372400-1793383200@crossvines.com
SUMMARY:Happy Hour!
DESCRIPTION:Join us in the Bistro Bar for Happy Hour and enjoy $2 off appetizers\, draft beer\, select Crossvines wine\, and house cocktails.
URL:https://crossvines.com/event/happy-hour-3/2026-10-30/
CATEGORIES:Events
END:VEVENT
BEGIN:VEVENT
DTSTART;TZID=UTC:20261104T150000
DTEND;TZID=UTC:20261104T180000
DTSTAMP:20260419T195332
CREATED:20260416T184026Z
LAST-MODIFIED:20260416T184232Z
UID:10000575-1793804400-1793815200@crossvines.com
SUMMARY:Happy Hour!
DESCRIPTION:Join us in the Bistro Bar for Happy Hour and enjoy $2 off appetizers\, draft beer\, select Crossvines wine\, and house cocktails.
URL:https://crossvines.com/event/happy-hour-3/2026-11-04/
CATEGORIES:Events
END:VEVENT
BEGIN:VEVENT
DTSTART;TZID=UTC:20261105T150000
DTEND;TZID=UTC:20261105T180000
DTSTAMP:20260419T195332
CREATED:20260416T184026Z
LAST-MODIFIED:20260416T184232Z
UID:10000576-1793890800-1793901600@crossvines.com
SUMMARY:Happy Hour!
DESCRIPTION:Join us in the Bistro Bar for Happy Hour and enjoy $2 off appetizers\, draft beer\, select Crossvines wine\, and house cocktails.
URL:https://crossvines.com/event/happy-hour-3/2026-11-05/
CATEGORIES:Events
END:VEVENT
BEGIN:VEVENT
DTSTART;TZID=UTC:20261106T150000
DTEND;TZID=UTC:20261106T180000
DTSTAMP:20260419T195332
CREATED:20260416T184026Z
LAST-MODIFIED:20260416T184232Z
UID:10000577-1793977200-1793988000@crossvines.com
SUMMARY:Happy Hour!
DESCRIPTION:Join us in the Bistro Bar for Happy Hour and enjoy $2 off appetizers\, draft beer\, select Crossvines wine\, and house cocktails.
URL:https://crossvines.com/event/happy-hour-3/2026-11-06/
CATEGORIES:Events
END:VEVENT
BEGIN:VEVENT
DTSTART;TZID=UTC:20261111T150000
DTEND;TZID=UTC:20261111T180000
DTSTAMP:20260419T195332
CREATED:20260416T184026Z
LAST-MODIFIED:20260416T184232Z
UID:10000578-1794409200-1794420000@crossvines.com
SUMMARY:Happy Hour!
DESCRIPTION:Join us in the Bistro Bar for Happy Hour and enjoy $2 off appetizers\, draft beer\, select Crossvines wine\, and house cocktails.
URL:https://crossvines.com/event/happy-hour-3/2026-11-11/
CATEGORIES:Events
END:VEVENT
BEGIN:VEVENT
DTSTART;TZID=UTC:20261112T150000
DTEND;TZID=UTC:20261112T180000
DTSTAMP:20260419T195332
CREATED:20260416T184026Z
LAST-MODIFIED:20260416T184232Z
UID:10000579-1794495600-1794506400@crossvines.com
SUMMARY:Happy Hour!
DESCRIPTION:Join us in the Bistro Bar for Happy Hour and enjoy $2 off appetizers\, draft beer\, select Crossvines wine\, and house cocktails.
URL:https://crossvines.com/event/happy-hour-3/2026-11-12/
CATEGORIES:Events
END:VEVENT
BEGIN:VEVENT
DTSTART;TZID=UTC:20261113T150000
DTEND;TZID=UTC:20261113T180000
DTSTAMP:20260419T195332
CREATED:20260416T184026Z
LAST-MODIFIED:20260416T184232Z
UID:10000580-1794582000-1794592800@crossvines.com
SUMMARY:Happy Hour!
DESCRIPTION:Join us in the Bistro Bar for Happy Hour and enjoy $2 off appetizers\, draft beer\, select Crossvines wine\, and house cocktails.
URL:https://crossvines.com/event/happy-hour-3/2026-11-13/
CATEGORIES:Events
END:VEVENT
BEGIN:VEVENT
DTSTART;TZID=UTC:20261118T150000
DTEND;TZID=UTC:20261118T180000
DTSTAMP:20260419T195332
CREATED:20260416T184026Z
LAST-MODIFIED:20260416T184232Z
UID:10000581-1795014000-1795024800@crossvines.com
SUMMARY:Happy Hour!
DESCRIPTION:Join us in the Bistro Bar for Happy Hour and enjoy $2 off appetizers\, draft beer\, select Crossvines wine\, and house cocktails.
URL:https://crossvines.com/event/happy-hour-3/2026-11-18/
CATEGORIES:Events
END:VEVENT
BEGIN:VEVENT
DTSTART;TZID=UTC:20261119T150000
DTEND;TZID=UTC:20261119T180000
DTSTAMP:20260419T195332
CREATED:20260416T184026Z
LAST-MODIFIED:20260416T184232Z
UID:10000582-1795100400-1795111200@crossvines.com
SUMMARY:Happy Hour!
DESCRIPTION:Join us in the Bistro Bar for Happy Hour and enjoy $2 off appetizers\, draft beer\, select Crossvines wine\, and house cocktails.
URL:https://crossvines.com/event/happy-hour-3/2026-11-19/
CATEGORIES:Events
END:VEVENT
BEGIN:VEVENT
DTSTART;TZID=UTC:20261120T150000
DTEND;TZID=UTC:20261120T180000
DTSTAMP:20260419T195332
CREATED:20260416T184026Z
LAST-MODIFIED:20260416T184232Z
UID:10000583-1795186800-1795197600@crossvines.com
SUMMARY:Happy Hour!
DESCRIPTION:Join us in the Bistro Bar for Happy Hour and enjoy $2 off appetizers\, draft beer\, select Crossvines wine\, and house cocktails.
URL:https://crossvines.com/event/happy-hour-3/2026-11-20/
CATEGORIES:Events
END:VEVENT
BEGIN:VEVENT
DTSTART;TZID=UTC:20261125T150000
DTEND;TZID=UTC:20261125T180000
DTSTAMP:20260419T195332
CREATED:20260416T184026Z
LAST-MODIFIED:20260416T184232Z
UID:10000584-1795618800-1795629600@crossvines.com
SUMMARY:Happy Hour!
DESCRIPTION:Join us in the Bistro Bar for Happy Hour and enjoy $2 off appetizers\, draft beer\, select Crossvines wine\, and house cocktails.
URL:https://crossvines.com/event/happy-hour-3/2026-11-25/
CATEGORIES:Events
END:VEVENT
BEGIN:VEVENT
DTSTART;TZID=UTC:20261126T150000
DTEND;TZID=UTC:20261126T180000
DTSTAMP:20260419T195332
CREATED:20260416T184026Z
LAST-MODIFIED:20260416T184232Z
UID:10000585-1795705200-1795716000@crossvines.com
SUMMARY:Happy Hour!
DESCRIPTION:Join us in the Bistro Bar for Happy Hour and enjoy $2 off appetizers\, draft beer\, select Crossvines wine\, and house cocktails.
URL:https://crossvines.com/event/happy-hour-3/2026-11-26/
CATEGORIES:Events
END:VEVENT
BEGIN:VEVENT
DTSTART;TZID=UTC:20261127T150000
DTEND;TZID=UTC:20261127T180000
DTSTAMP:20260419T195332
CREATED:20260416T184026Z
LAST-MODIFIED:20260416T184232Z
UID:10000586-1795791600-1795802400@crossvines.com
SUMMARY:Happy Hour!
DESCRIPTION:Join us in the Bistro Bar for Happy Hour and enjoy $2 off appetizers\, draft beer\, select Crossvines wine\, and house cocktails.
URL:https://crossvines.com/event/happy-hour-3/2026-11-27/
CATEGORIES:Events
END:VEVENT
BEGIN:VEVENT
DTSTART;TZID=UTC:20261202T150000
DTEND;TZID=UTC:20261202T180000
DTSTAMP:20260419T195332
CREATED:20260416T184026Z
LAST-MODIFIED:20260416T184232Z
UID:10000587-1796223600-1796234400@crossvines.com
SUMMARY:Happy Hour!
DESCRIPTION:Join us in the Bistro Bar for Happy Hour and enjoy $2 off appetizers\, draft beer\, select Crossvines wine\, and house cocktails.
URL:https://crossvines.com/event/happy-hour-3/2026-12-02/
CATEGORIES:Events
END:VEVENT
BEGIN:VEVENT
DTSTART;TZID=UTC:20261203T150000
DTEND;TZID=UTC:20261203T180000
DTSTAMP:20260419T195332
CREATED:20260416T184026Z
LAST-MODIFIED:20260416T184232Z
UID:10000588-1796310000-1796320800@crossvines.com
SUMMARY:Happy Hour!
DESCRIPTION:Join us in the Bistro Bar for Happy Hour and enjoy $2 off appetizers\, draft beer\, select Crossvines wine\, and house cocktails.
URL:https://crossvines.com/event/happy-hour-3/2026-12-03/
CATEGORIES:Events
END:VEVENT
BEGIN:VEVENT
DTSTART;TZID=UTC:20261204T150000
DTEND;TZID=UTC:20261204T180000
DTSTAMP:20260419T195332
CREATED:20260416T184026Z
LAST-MODIFIED:20260416T184232Z
UID:10000589-1796396400-1796407200@crossvines.com
SUMMARY:Happy Hour!
DESCRIPTION:Join us in the Bistro Bar for Happy Hour and enjoy $2 off appetizers\, draft beer\, select Crossvines wine\, and house cocktails.
URL:https://crossvines.com/event/happy-hour-3/2026-12-04/
CATEGORIES:Events
END:VEVENT
BEGIN:VEVENT
DTSTART;TZID=UTC:20261209T150000
DTEND;TZID=UTC:20261209T180000
DTSTAMP:20260419T195332
CREATED:20260416T184026Z
LAST-MODIFIED:20260416T184232Z
UID:10000590-1796828400-1796839200@crossvines.com
SUMMARY:Happy Hour!
DESCRIPTION:Join us in the Bistro Bar for Happy Hour and enjoy $2 off appetizers\, draft beer\, select Crossvines wine\, and house cocktails.
URL:https://crossvines.com/event/happy-hour-3/2026-12-09/
CATEGORIES:Events
END:VEVENT
BEGIN:VEVENT
DTSTART;TZID=UTC:20261210T150000
DTEND;TZID=UTC:20261210T180000
DTSTAMP:20260419T195332
CREATED:20260416T184026Z
LAST-MODIFIED:20260416T184232Z
UID:10000591-1796914800-1796925600@crossvines.com
SUMMARY:Happy Hour!
DESCRIPTION:Join us in the Bistro Bar for Happy Hour and enjoy $2 off appetizers\, draft beer\, select Crossvines wine\, and house cocktails.
URL:https://crossvines.com/event/happy-hour-3/2026-12-10/
CATEGORIES:Events
END:VEVENT
BEGIN:VEVENT
DTSTART;TZID=UTC:20261211T150000
DTEND;TZID=UTC:20261211T180000
DTSTAMP:20260419T195332
CREATED:20260416T184026Z
LAST-MODIFIED:20260416T184232Z
UID:10000592-1797001200-1797012000@crossvines.com
SUMMARY:Happy Hour!
DESCRIPTION:Join us in the Bistro Bar for Happy Hour and enjoy $2 off appetizers\, draft beer\, select Crossvines wine\, and house cocktails.
URL:https://crossvines.com/event/happy-hour-3/2026-12-11/
CATEGORIES:Events
END:VEVENT
BEGIN:VEVENT
DTSTART;TZID=UTC:20261216T150000
DTEND;TZID=UTC:20261216T180000
DTSTAMP:20260419T195333
CREATED:20260416T184026Z
LAST-MODIFIED:20260416T184232Z
UID:10000593-1797433200-1797444000@crossvines.com
SUMMARY:Happy Hour!
DESCRIPTION:Join us in the Bistro Bar for Happy Hour and enjoy $2 off appetizers\, draft beer\, select Crossvines wine\, and house cocktails.
URL:https://crossvines.com/event/happy-hour-3/2026-12-16/
CATEGORIES:Events
END:VEVENT
BEGIN:VEVENT
DTSTART;TZID=UTC:20261217T150000
DTEND;TZID=UTC:20261217T180000
DTSTAMP:20260419T195333
CREATED:20260416T184026Z
LAST-MODIFIED:20260416T184232Z
UID:10000594-1797519600-1797530400@crossvines.com
SUMMARY:Happy Hour!
DESCRIPTION:Join us in the Bistro Bar for Happy Hour and enjoy $2 off appetizers\, draft beer\, select Crossvines wine\, and house cocktails.
URL:https://crossvines.com/event/happy-hour-3/2026-12-17/
CATEGORIES:Events
END:VEVENT
BEGIN:VEVENT
DTSTART;TZID=UTC:20261218T150000
DTEND;TZID=UTC:20261218T180000
DTSTAMP:20260419T195333
CREATED:20260416T184026Z
LAST-MODIFIED:20260416T184232Z
UID:10000595-1797606000-1797616800@crossvines.com
SUMMARY:Happy Hour!
DESCRIPTION:Join us in the Bistro Bar for Happy Hour and enjoy $2 off appetizers\, draft beer\, select Crossvines wine\, and house cocktails.
URL:https://crossvines.com/event/happy-hour-3/2026-12-18/
CATEGORIES:Events
END:VEVENT
BEGIN:VEVENT
DTSTART;TZID=UTC:20261223T150000
DTEND;TZID=UTC:20261223T180000
DTSTAMP:20260419T195333
CREATED:20260416T184026Z
LAST-MODIFIED:20260416T184232Z
UID:10000596-1798038000-1798048800@crossvines.com
SUMMARY:Happy Hour!
DESCRIPTION:Join us in the Bistro Bar for Happy Hour and enjoy $2 off appetizers\, draft beer\, select Crossvines wine\, and house cocktails.
URL:https://crossvines.com/event/happy-hour-3/2026-12-23/
CATEGORIES:Events
END:VEVENT
BEGIN:VEVENT
DTSTART;TZID=UTC:20261224T150000
DTEND;TZID=UTC:20261224T180000
DTSTAMP:20260419T195333
CREATED:20260416T184026Z
LAST-MODIFIED:20260416T184232Z
UID:10000597-1798124400-1798135200@crossvines.com
SUMMARY:Happy Hour!
DESCRIPTION:Join us in the Bistro Bar for Happy Hour and enjoy $2 off appetizers\, draft beer\, select Crossvines wine\, and house cocktails.
URL:https://crossvines.com/event/happy-hour-3/2026-12-24/
CATEGORIES:Events
END:VEVENT
END:VCALENDAR