BEGIN:VCALENDAR
VERSION:2.0
PRODID:-//The Crossvines - Poolesville, MD - ECPv6.15.20//NONSGML v1.0//EN
CALSCALE:GREGORIAN
METHOD:PUBLISH
X-WR-CALNAME:The Crossvines - Poolesville, MD
X-ORIGINAL-URL:https://crossvines.com
X-WR-CALDESC:Events for The Crossvines - Poolesville, MD
REFRESH-INTERVAL;VALUE=DURATION:PT1H
X-Robots-Tag:noindex
X-PUBLISHED-TTL:PT1H
BEGIN:VTIMEZONE
TZID:UTC
BEGIN:STANDARD
TZOFFSETFROM:+0000
TZOFFSETTO:+0000
TZNAME:UTC
DTSTART:20260101T000000
END:STANDARD
END:VTIMEZONE
BEGIN:VEVENT
DTSTART;TZID=UTC:20270108T150000
DTEND;TZID=UTC:20270108T180000
DTSTAMP:20260420T012335
CREATED:20260416T184026Z
LAST-MODIFIED:20260416T184232Z
UID:10000604-1799420400-1799431200@crossvines.com
SUMMARY:Happy Hour!
DESCRIPTION:Join us in the Bistro Bar for Happy Hour and enjoy $2 off appetizers\, draft beer\, select Crossvines wine\, and house cocktails.
URL:https://crossvines.com/event/happy-hour-3/2027-01-08/
CATEGORIES:Events
END:VEVENT
BEGIN:VEVENT
DTSTART;TZID=UTC:20270113T150000
DTEND;TZID=UTC:20270113T180000
DTSTAMP:20260420T012336
CREATED:20260416T184026Z
LAST-MODIFIED:20260416T184232Z
UID:10000605-1799852400-1799863200@crossvines.com
SUMMARY:Happy Hour!
DESCRIPTION:Join us in the Bistro Bar for Happy Hour and enjoy $2 off appetizers\, draft beer\, select Crossvines wine\, and house cocktails.
URL:https://crossvines.com/event/happy-hour-3/2027-01-13/
CATEGORIES:Events
END:VEVENT
BEGIN:VEVENT
DTSTART;TZID=UTC:20270114T150000
DTEND;TZID=UTC:20270114T180000
DTSTAMP:20260420T012336
CREATED:20260416T184026Z
LAST-MODIFIED:20260416T184232Z
UID:10000606-1799938800-1799949600@crossvines.com
SUMMARY:Happy Hour!
DESCRIPTION:Join us in the Bistro Bar for Happy Hour and enjoy $2 off appetizers\, draft beer\, select Crossvines wine\, and house cocktails.
URL:https://crossvines.com/event/happy-hour-3/2027-01-14/
CATEGORIES:Events
END:VEVENT
BEGIN:VEVENT
DTSTART;TZID=UTC:20270115T150000
DTEND;TZID=UTC:20270115T180000
DTSTAMP:20260420T012336
CREATED:20260416T184026Z
LAST-MODIFIED:20260416T184232Z
UID:10000607-1800025200-1800036000@crossvines.com
SUMMARY:Happy Hour!
DESCRIPTION:Join us in the Bistro Bar for Happy Hour and enjoy $2 off appetizers\, draft beer\, select Crossvines wine\, and house cocktails.
URL:https://crossvines.com/event/happy-hour-3/2027-01-15/
CATEGORIES:Events
END:VEVENT
BEGIN:VEVENT
DTSTART;TZID=UTC:20270120T150000
DTEND;TZID=UTC:20270120T180000
DTSTAMP:20260420T012336
CREATED:20260416T184026Z
LAST-MODIFIED:20260416T184232Z
UID:10000608-1800457200-1800468000@crossvines.com
SUMMARY:Happy Hour!
DESCRIPTION:Join us in the Bistro Bar for Happy Hour and enjoy $2 off appetizers\, draft beer\, select Crossvines wine\, and house cocktails.
URL:https://crossvines.com/event/happy-hour-3/2027-01-20/
CATEGORIES:Events
END:VEVENT
BEGIN:VEVENT
DTSTART;TZID=UTC:20270121T150000
DTEND;TZID=UTC:20270121T180000
DTSTAMP:20260420T012336
CREATED:20260416T184026Z
LAST-MODIFIED:20260416T184232Z
UID:10000609-1800543600-1800554400@crossvines.com
SUMMARY:Happy Hour!
DESCRIPTION:Join us in the Bistro Bar for Happy Hour and enjoy $2 off appetizers\, draft beer\, select Crossvines wine\, and house cocktails.
URL:https://crossvines.com/event/happy-hour-3/2027-01-21/
CATEGORIES:Events
END:VEVENT
BEGIN:VEVENT
DTSTART;TZID=UTC:20270122T150000
DTEND;TZID=UTC:20270122T180000
DTSTAMP:20260420T012336
CREATED:20260416T184026Z
LAST-MODIFIED:20260416T184232Z
UID:10000610-1800630000-1800640800@crossvines.com
SUMMARY:Happy Hour!
DESCRIPTION:Join us in the Bistro Bar for Happy Hour and enjoy $2 off appetizers\, draft beer\, select Crossvines wine\, and house cocktails.
URL:https://crossvines.com/event/happy-hour-3/2027-01-22/
CATEGORIES:Events
END:VEVENT
BEGIN:VEVENT
DTSTART;TZID=UTC:20270127T150000
DTEND;TZID=UTC:20270127T180000
DTSTAMP:20260420T012336
CREATED:20260416T184026Z
LAST-MODIFIED:20260416T184232Z
UID:10000611-1801062000-1801072800@crossvines.com
SUMMARY:Happy Hour!
DESCRIPTION:Join us in the Bistro Bar for Happy Hour and enjoy $2 off appetizers\, draft beer\, select Crossvines wine\, and house cocktails.
URL:https://crossvines.com/event/happy-hour-3/2027-01-27/
CATEGORIES:Events
END:VEVENT
BEGIN:VEVENT
DTSTART;TZID=UTC:20270128T150000
DTEND;TZID=UTC:20270128T180000
DTSTAMP:20260420T012336
CREATED:20260416T184026Z
LAST-MODIFIED:20260416T184232Z
UID:10000612-1801148400-1801159200@crossvines.com
SUMMARY:Happy Hour!
DESCRIPTION:Join us in the Bistro Bar for Happy Hour and enjoy $2 off appetizers\, draft beer\, select Crossvines wine\, and house cocktails.
URL:https://crossvines.com/event/happy-hour-3/2027-01-28/
CATEGORIES:Events
END:VEVENT
BEGIN:VEVENT
DTSTART;TZID=UTC:20270129T150000
DTEND;TZID=UTC:20270129T180000
DTSTAMP:20260420T012336
CREATED:20260416T184026Z
LAST-MODIFIED:20260416T184232Z
UID:10000613-1801234800-1801245600@crossvines.com
SUMMARY:Happy Hour!
DESCRIPTION:Join us in the Bistro Bar for Happy Hour and enjoy $2 off appetizers\, draft beer\, select Crossvines wine\, and house cocktails.
URL:https://crossvines.com/event/happy-hour-3/2027-01-29/
CATEGORIES:Events
END:VEVENT
BEGIN:VEVENT
DTSTART;TZID=UTC:20270203T150000
DTEND;TZID=UTC:20270203T180000
DTSTAMP:20260420T012336
CREATED:20260416T184026Z
LAST-MODIFIED:20260416T184232Z
UID:10000614-1801666800-1801677600@crossvines.com
SUMMARY:Happy Hour!
DESCRIPTION:Join us in the Bistro Bar for Happy Hour and enjoy $2 off appetizers\, draft beer\, select Crossvines wine\, and house cocktails.
URL:https://crossvines.com/event/happy-hour-3/2027-02-03/
CATEGORIES:Events
END:VEVENT
BEGIN:VEVENT
DTSTART;TZID=UTC:20270204T150000
DTEND;TZID=UTC:20270204T180000
DTSTAMP:20260420T012336
CREATED:20260416T184026Z
LAST-MODIFIED:20260416T184232Z
UID:10000615-1801753200-1801764000@crossvines.com
SUMMARY:Happy Hour!
DESCRIPTION:Join us in the Bistro Bar for Happy Hour and enjoy $2 off appetizers\, draft beer\, select Crossvines wine\, and house cocktails.
URL:https://crossvines.com/event/happy-hour-3/2027-02-04/
CATEGORIES:Events
END:VEVENT
BEGIN:VEVENT
DTSTART;TZID=UTC:20270205T150000
DTEND;TZID=UTC:20270205T180000
DTSTAMP:20260420T012336
CREATED:20260416T184026Z
LAST-MODIFIED:20260416T184232Z
UID:10000616-1801839600-1801850400@crossvines.com
SUMMARY:Happy Hour!
DESCRIPTION:Join us in the Bistro Bar for Happy Hour and enjoy $2 off appetizers\, draft beer\, select Crossvines wine\, and house cocktails.
URL:https://crossvines.com/event/happy-hour-3/2027-02-05/
CATEGORIES:Events
END:VEVENT
BEGIN:VEVENT
DTSTART;TZID=UTC:20270210T150000
DTEND;TZID=UTC:20270210T180000
DTSTAMP:20260420T012336
CREATED:20260416T184026Z
LAST-MODIFIED:20260416T184232Z
UID:10000617-1802271600-1802282400@crossvines.com
SUMMARY:Happy Hour!
DESCRIPTION:Join us in the Bistro Bar for Happy Hour and enjoy $2 off appetizers\, draft beer\, select Crossvines wine\, and house cocktails.
URL:https://crossvines.com/event/happy-hour-3/2027-02-10/
CATEGORIES:Events
END:VEVENT
BEGIN:VEVENT
DTSTART;TZID=UTC:20270211T150000
DTEND;TZID=UTC:20270211T180000
DTSTAMP:20260420T012336
CREATED:20260416T184026Z
LAST-MODIFIED:20260416T184232Z
UID:10000618-1802358000-1802368800@crossvines.com
SUMMARY:Happy Hour!
DESCRIPTION:Join us in the Bistro Bar for Happy Hour and enjoy $2 off appetizers\, draft beer\, select Crossvines wine\, and house cocktails.
URL:https://crossvines.com/event/happy-hour-3/2027-02-11/
CATEGORIES:Events
END:VEVENT
BEGIN:VEVENT
DTSTART;TZID=UTC:20270212T150000
DTEND;TZID=UTC:20270212T180000
DTSTAMP:20260420T012336
CREATED:20260416T184026Z
LAST-MODIFIED:20260416T184232Z
UID:10000619-1802444400-1802455200@crossvines.com
SUMMARY:Happy Hour!
DESCRIPTION:Join us in the Bistro Bar for Happy Hour and enjoy $2 off appetizers\, draft beer\, select Crossvines wine\, and house cocktails.
URL:https://crossvines.com/event/happy-hour-3/2027-02-12/
CATEGORIES:Events
END:VEVENT
BEGIN:VEVENT
DTSTART;TZID=UTC:20270217T150000
DTEND;TZID=UTC:20270217T180000
DTSTAMP:20260420T012336
CREATED:20260416T184026Z
LAST-MODIFIED:20260416T184232Z
UID:10000620-1802876400-1802887200@crossvines.com
SUMMARY:Happy Hour!
DESCRIPTION:Join us in the Bistro Bar for Happy Hour and enjoy $2 off appetizers\, draft beer\, select Crossvines wine\, and house cocktails.
URL:https://crossvines.com/event/happy-hour-3/2027-02-17/
CATEGORIES:Events
END:VEVENT
BEGIN:VEVENT
DTSTART;TZID=UTC:20270218T150000
DTEND;TZID=UTC:20270218T180000
DTSTAMP:20260420T012336
CREATED:20260416T184026Z
LAST-MODIFIED:20260416T184232Z
UID:10000621-1802962800-1802973600@crossvines.com
SUMMARY:Happy Hour!
DESCRIPTION:Join us in the Bistro Bar for Happy Hour and enjoy $2 off appetizers\, draft beer\, select Crossvines wine\, and house cocktails.
URL:https://crossvines.com/event/happy-hour-3/2027-02-18/
CATEGORIES:Events
END:VEVENT
BEGIN:VEVENT
DTSTART;TZID=UTC:20270219T150000
DTEND;TZID=UTC:20270219T180000
DTSTAMP:20260420T012336
CREATED:20260416T184026Z
LAST-MODIFIED:20260416T184232Z
UID:10000622-1803049200-1803060000@crossvines.com
SUMMARY:Happy Hour!
DESCRIPTION:Join us in the Bistro Bar for Happy Hour and enjoy $2 off appetizers\, draft beer\, select Crossvines wine\, and house cocktails.
URL:https://crossvines.com/event/happy-hour-3/2027-02-19/
CATEGORIES:Events
END:VEVENT
BEGIN:VEVENT
DTSTART;TZID=UTC:20270224T150000
DTEND;TZID=UTC:20270224T180000
DTSTAMP:20260420T012336
CREATED:20260416T184026Z
LAST-MODIFIED:20260416T184232Z
UID:10000623-1803481200-1803492000@crossvines.com
SUMMARY:Happy Hour!
DESCRIPTION:Join us in the Bistro Bar for Happy Hour and enjoy $2 off appetizers\, draft beer\, select Crossvines wine\, and house cocktails.
URL:https://crossvines.com/event/happy-hour-3/2027-02-24/
CATEGORIES:Events
END:VEVENT
BEGIN:VEVENT
DTSTART;TZID=UTC:20270225T150000
DTEND;TZID=UTC:20270225T180000
DTSTAMP:20260420T012336
CREATED:20260416T184026Z
LAST-MODIFIED:20260416T184232Z
UID:10000624-1803567600-1803578400@crossvines.com
SUMMARY:Happy Hour!
DESCRIPTION:Join us in the Bistro Bar for Happy Hour and enjoy $2 off appetizers\, draft beer\, select Crossvines wine\, and house cocktails.
URL:https://crossvines.com/event/happy-hour-3/2027-02-25/
CATEGORIES:Events
END:VEVENT
BEGIN:VEVENT
DTSTART;TZID=UTC:20270226T150000
DTEND;TZID=UTC:20270226T180000
DTSTAMP:20260420T012336
CREATED:20260416T184026Z
LAST-MODIFIED:20260416T184232Z
UID:10000625-1803654000-1803664800@crossvines.com
SUMMARY:Happy Hour!
DESCRIPTION:Join us in the Bistro Bar for Happy Hour and enjoy $2 off appetizers\, draft beer\, select Crossvines wine\, and house cocktails.
URL:https://crossvines.com/event/happy-hour-3/2027-02-26/
CATEGORIES:Events
END:VEVENT
BEGIN:VEVENT
DTSTART;TZID=UTC:20270303T150000
DTEND;TZID=UTC:20270303T180000
DTSTAMP:20260420T012336
CREATED:20260416T184026Z
LAST-MODIFIED:20260416T184232Z
UID:10000626-1804086000-1804096800@crossvines.com
SUMMARY:Happy Hour!
DESCRIPTION:Join us in the Bistro Bar for Happy Hour and enjoy $2 off appetizers\, draft beer\, select Crossvines wine\, and house cocktails.
URL:https://crossvines.com/event/happy-hour-3/2027-03-03/
CATEGORIES:Events
END:VEVENT
BEGIN:VEVENT
DTSTART;TZID=UTC:20270304T150000
DTEND;TZID=UTC:20270304T180000
DTSTAMP:20260420T012336
CREATED:20260416T184026Z
LAST-MODIFIED:20260416T184232Z
UID:10000627-1804172400-1804183200@crossvines.com
SUMMARY:Happy Hour!
DESCRIPTION:Join us in the Bistro Bar for Happy Hour and enjoy $2 off appetizers\, draft beer\, select Crossvines wine\, and house cocktails.
URL:https://crossvines.com/event/happy-hour-3/2027-03-04/
CATEGORIES:Events
END:VEVENT
BEGIN:VEVENT
DTSTART;TZID=UTC:20270305T150000
DTEND;TZID=UTC:20270305T180000
DTSTAMP:20260420T012336
CREATED:20260416T184026Z
LAST-MODIFIED:20260416T184232Z
UID:10000628-1804258800-1804269600@crossvines.com
SUMMARY:Happy Hour!
DESCRIPTION:Join us in the Bistro Bar for Happy Hour and enjoy $2 off appetizers\, draft beer\, select Crossvines wine\, and house cocktails.
URL:https://crossvines.com/event/happy-hour-3/2027-03-05/
CATEGORIES:Events
END:VEVENT
BEGIN:VEVENT
DTSTART;TZID=UTC:20270310T150000
DTEND;TZID=UTC:20270310T180000
DTSTAMP:20260420T012336
CREATED:20260416T184026Z
LAST-MODIFIED:20260416T184232Z
UID:10000629-1804690800-1804701600@crossvines.com
SUMMARY:Happy Hour!
DESCRIPTION:Join us in the Bistro Bar for Happy Hour and enjoy $2 off appetizers\, draft beer\, select Crossvines wine\, and house cocktails.
URL:https://crossvines.com/event/happy-hour-3/2027-03-10/
CATEGORIES:Events
END:VEVENT
BEGIN:VEVENT
DTSTART;TZID=UTC:20270311T150000
DTEND;TZID=UTC:20270311T180000
DTSTAMP:20260420T012336
CREATED:20260416T184026Z
LAST-MODIFIED:20260416T184232Z
UID:10000630-1804777200-1804788000@crossvines.com
SUMMARY:Happy Hour!
DESCRIPTION:Join us in the Bistro Bar for Happy Hour and enjoy $2 off appetizers\, draft beer\, select Crossvines wine\, and house cocktails.
URL:https://crossvines.com/event/happy-hour-3/2027-03-11/
CATEGORIES:Events
END:VEVENT
BEGIN:VEVENT
DTSTART;TZID=UTC:20270312T150000
DTEND;TZID=UTC:20270312T180000
DTSTAMP:20260420T012336
CREATED:20260416T184026Z
LAST-MODIFIED:20260416T184232Z
UID:10000631-1804863600-1804874400@crossvines.com
SUMMARY:Happy Hour!
DESCRIPTION:Join us in the Bistro Bar for Happy Hour and enjoy $2 off appetizers\, draft beer\, select Crossvines wine\, and house cocktails.
URL:https://crossvines.com/event/happy-hour-3/2027-03-12/
CATEGORIES:Events
END:VEVENT
BEGIN:VEVENT
DTSTART;TZID=UTC:20270317T150000
DTEND;TZID=UTC:20270317T180000
DTSTAMP:20260420T012336
CREATED:20260416T184026Z
LAST-MODIFIED:20260416T184232Z
UID:10000632-1805295600-1805306400@crossvines.com
SUMMARY:Happy Hour!
DESCRIPTION:Join us in the Bistro Bar for Happy Hour and enjoy $2 off appetizers\, draft beer\, select Crossvines wine\, and house cocktails.
URL:https://crossvines.com/event/happy-hour-3/2027-03-17/
CATEGORIES:Events
END:VEVENT
BEGIN:VEVENT
DTSTART;TZID=UTC:20270318T150000
DTEND;TZID=UTC:20270318T180000
DTSTAMP:20260420T012336
CREATED:20260416T184026Z
LAST-MODIFIED:20260416T184232Z
UID:10000633-1805382000-1805392800@crossvines.com
SUMMARY:Happy Hour!
DESCRIPTION:Join us in the Bistro Bar for Happy Hour and enjoy $2 off appetizers\, draft beer\, select Crossvines wine\, and house cocktails.
URL:https://crossvines.com/event/happy-hour-3/2027-03-18/
CATEGORIES:Events
END:VEVENT
END:VCALENDAR