BEGIN:VCALENDAR
VERSION:2.0
PRODID:-//The Crossvines - Poolesville, MD - ECPv6.15.20//NONSGML v1.0//EN
CALSCALE:GREGORIAN
METHOD:PUBLISH
X-ORIGINAL-URL:https://crossvines.com
X-WR-CALDESC:Events for The Crossvines - Poolesville, MD
REFRESH-INTERVAL;VALUE=DURATION:PT1H
X-Robots-Tag:noindex
X-PUBLISHED-TTL:PT1H
BEGIN:VTIMEZONE
TZID:UTC
BEGIN:STANDARD
TZOFFSETFROM:+0000
TZOFFSETTO:+0000
TZNAME:UTC
DTSTART:20250101T000000
END:STANDARD
END:VTIMEZONE
BEGIN:VEVENT
DTSTART;TZID=UTC:20260422T150000
DTEND;TZID=UTC:20260422T180000
DTSTAMP:20260419T133652
CREATED:20260416T184026Z
LAST-MODIFIED:20260416T184232Z
UID:10000491-1776870000-1776880800@crossvines.com
SUMMARY:Happy Hour!
DESCRIPTION:Join us in the Bistro Bar for Happy Hour and enjoy $2 off appetizers\, draft beer\, select Crossvines wine\, and house cocktails.
URL:https://crossvines.com/event/happy-hour-3/2026-04-22/
CATEGORIES:Events
END:VEVENT
BEGIN:VEVENT
DTSTART;TZID=UTC:20260423T150000
DTEND;TZID=UTC:20260423T180000
DTSTAMP:20260419T133652
CREATED:20260416T184026Z
LAST-MODIFIED:20260416T184232Z
UID:10000492-1776956400-1776967200@crossvines.com
SUMMARY:Happy Hour!
DESCRIPTION:Join us in the Bistro Bar for Happy Hour and enjoy $2 off appetizers\, draft beer\, select Crossvines wine\, and house cocktails.
URL:https://crossvines.com/event/happy-hour-3/2026-04-23/
CATEGORIES:Events
END:VEVENT
BEGIN:VEVENT
DTSTART;TZID=UTC:20260424T150000
DTEND;TZID=UTC:20260424T180000
DTSTAMP:20260419T133652
CREATED:20260416T184026Z
LAST-MODIFIED:20260416T184232Z
UID:10000493-1777042800-1777053600@crossvines.com
SUMMARY:Happy Hour!
DESCRIPTION:Join us in the Bistro Bar for Happy Hour and enjoy $2 off appetizers\, draft beer\, select Crossvines wine\, and house cocktails.
URL:https://crossvines.com/event/happy-hour-3/2026-04-24/
CATEGORIES:Events
END:VEVENT
BEGIN:VEVENT
DTSTART;TZID=UTC:20260424T183000
DTEND;TZID=UTC:20260424T203000
DTSTAMP:20260419T133652
CREATED:20260414T152104Z
LAST-MODIFIED:20260414T152105Z
UID:10000372-1777055400-1777062600@crossvines.com
SUMMARY:Line Dancing @ The Crossvines
DESCRIPTION:
URL:https://crossvines.com/event/line-dancing-the-crossvines-12/
END:VEVENT
BEGIN:VEVENT
DTSTART;TZID=UTC:20260429T150000
DTEND;TZID=UTC:20260429T180000
DTSTAMP:20260419T133652
CREATED:20260416T184026Z
LAST-MODIFIED:20260416T184232Z
UID:10000494-1777474800-1777485600@crossvines.com
SUMMARY:Happy Hour!
DESCRIPTION:Join us in the Bistro Bar for Happy Hour and enjoy $2 off appetizers\, draft beer\, select Crossvines wine\, and house cocktails.
URL:https://crossvines.com/event/happy-hour-3/2026-04-29/
CATEGORIES:Events
END:VEVENT
BEGIN:VEVENT
DTSTART;TZID=UTC:20260430T150000
DTEND;TZID=UTC:20260430T180000
DTSTAMP:20260419T133652
CREATED:20260416T184026Z
LAST-MODIFIED:20260416T184232Z
UID:10000495-1777561200-1777572000@crossvines.com
SUMMARY:Happy Hour!
DESCRIPTION:Join us in the Bistro Bar for Happy Hour and enjoy $2 off appetizers\, draft beer\, select Crossvines wine\, and house cocktails.
URL:https://crossvines.com/event/happy-hour-3/2026-04-30/
CATEGORIES:Events
END:VEVENT
END:VCALENDAR